BEGIN:VCALENDAR
VERSION:2.0
PRODID:-//Club Vosgien de Guebwiller - ECPv6.15.20//NONSGML v1.0//EN
CALSCALE:GREGORIAN
METHOD:PUBLISH
X-WR-CALNAME:Club Vosgien de Guebwiller
X-ORIGINAL-URL:http://club-vosgien-guebwiller.fr
X-WR-CALDESC:Évènements pour Club Vosgien de Guebwiller
REFRESH-INTERVAL;VALUE=DURATION:PT1H
X-Robots-Tag:noindex
X-PUBLISHED-TTL:PT1H
BEGIN:VTIMEZONE
TZID:Europe/Paris
BEGIN:DAYLIGHT
TZOFFSETFROM:+0100
TZOFFSETTO:+0200
TZNAME:CEST
DTSTART:20250330T010000
END:DAYLIGHT
BEGIN:STANDARD
TZOFFSETFROM:+0200
TZOFFSETTO:+0100
TZNAME:CET
DTSTART:20251026T010000
END:STANDARD
BEGIN:DAYLIGHT
TZOFFSETFROM:+0100
TZOFFSETTO:+0200
TZNAME:CEST
DTSTART:20260329T010000
END:DAYLIGHT
BEGIN:STANDARD
TZOFFSETFROM:+0200
TZOFFSETTO:+0100
TZNAME:CET
DTSTART:20261025T010000
END:STANDARD
BEGIN:DAYLIGHT
TZOFFSETFROM:+0100
TZOFFSETTO:+0200
TZNAME:CEST
DTSTART:20270328T010000
END:DAYLIGHT
BEGIN:STANDARD
TZOFFSETFROM:+0200
TZOFFSETTO:+0100
TZNAME:CET
DTSTART:20271031T010000
END:STANDARD
END:VTIMEZONE
BEGIN:VEVENT
DTSTART;VALUE=DATE:20260108
DTEND;VALUE=DATE:20260109
DTSTAMP:20260422T180136
CREATED:20251220T100339Z
LAST-MODIFIED:20260419T113005Z
UID:6644-1767830400-1767916799@club-vosgien-guebwiller.fr
SUMMARY:Sortie de Maurice
DESCRIPTION:2026 01 08 Communiqué sortie Carrières
URL:http://club-vosgien-guebwiller.fr/event/sortie-de-maurice-43/
CATEGORIES:Randonnées
END:VEVENT
BEGIN:VEVENT
DTSTART;TZID=Europe/Paris:20260108T090000
DTEND;TZID=Europe/Paris:20260108T110000
DTSTAMP:20260422T180136
CREATED:20251223T153905Z
LAST-MODIFIED:20260419T113033Z
UID:6754-1767862800-1767870000@club-vosgien-guebwiller.fr
SUMMARY:Marche Nordique - ANNULEE
DESCRIPTION:EN RAISON DES CONDITIONS METEOROLOGIQUES LA SORTIE DE CE MATIN EST ANNULEE ! \n  \nLieu : Parking Basilique Notre Dame de Thierenbach \nDurée : 2 heures échauffement et étirements compris \n1 seul niveau : Jacqueline & Jean-Paul \nUne participation de 3 € est demandée pour les non-adhérents (assurance)
URL:http://club-vosgien-guebwiller.fr/event/marche-nordique-40/
LOCATION:Parking Basilique Notre Dame de Thierenbach Jungholtz\, V5JQ+FVC Jungholtz\, France\, Jungholtz\, 68500\, France
CATEGORIES:Marche Nordique
END:VEVENT
BEGIN:VEVENT
DTSTART;TZID=Europe/Paris:20260108T090000
DTEND;TZID=Europe/Paris:20260108T110000
DTSTAMP:20260422T180136
CREATED:20260105T174003Z
LAST-MODIFIED:20260105T174003Z
UID:6872-1767862800-1767870000@club-vosgien-guebwiller.fr
SUMMARY:Marche nordique avec Joël
DESCRIPTION:  \n  \nSortie du jeudi matin 08 JANVIER 2026 \n               PARKING DU VAL DU PÄTRE \n  \nRendez- vous à 8h45/8h50 avec mise en route à 9h . \nDevant le parking du Val du Pâtre pour une marche périphérique de 2h00 / 2h15 environ (échauffement et étirement compris) via le Parc à Daims et le Hameau des Sources. \n  \nSPORTIVEMENT JOEL \n06 63 77 32 10 \n  \n  \n  \n  \n  \n  \n  \n  \n  \n  \n  \n  \n  \n  \n  \n  \n  \n \n\n\n\n\n\n\n\n\n\n\n\n\n\n\n\n 
URL:http://club-vosgien-guebwiller.fr/event/marche-nordique-avec-joel-33/
CATEGORIES:Marche Nordique
END:VEVENT
BEGIN:VEVENT
DTSTART;TZID=Europe/Paris:20260108T090000
DTEND;TZID=Europe/Paris:20260108T140000
DTSTAMP:20260422T180136
CREATED:20251220T101145Z
LAST-MODIFIED:20260419T113103Z
UID:6653-1767862800-1767880800@club-vosgien-guebwiller.fr
SUMMARY:Les Randos du jeudi - Pfaffenheim
DESCRIPTION:Animateur : Pierre DITNER \nPFAFFENHEIM (parking du stage) – fontaine Osperling – Schneckenberg – Kopfacker – Dachelbrunnen – Rouffach – restaurant chez Julien –  retour – Galbuhl – Schaeffersloch – Pfaffenheim \nDistance : 12 kmdénivelé 130 m + \nTemps de marche : 4 heures \nRendez-vous : 9 h rue Victor Hugo à Guebwiller \nRéservation obligatoire au moins 1 semaine avant chez Pierre 06 16 37 47 35 \n 
URL:http://club-vosgien-guebwiller.fr/event/randonnee-pfaffenheim/
LOCATION:Rue Victor Hugo Guebwiller\, W638+9G3 Guebwiller\, 68500\, France
CATEGORIES:Randonnées
END:VEVENT
END:VCALENDAR