BEGIN:VCALENDAR
VERSION:2.0
PRODID:-//Club Vosgien de Guebwiller - ECPv6.15.20//NONSGML v1.0//EN
CALSCALE:GREGORIAN
METHOD:PUBLISH
X-ORIGINAL-URL:http://club-vosgien-guebwiller.fr
X-WR-CALDESC:Évènements pour Club Vosgien de Guebwiller
REFRESH-INTERVAL;VALUE=DURATION:PT1H
X-Robots-Tag:noindex
X-PUBLISHED-TTL:PT1H
BEGIN:VTIMEZONE
TZID:Europe/Paris
BEGIN:DAYLIGHT
TZOFFSETFROM:+0100
TZOFFSETTO:+0200
TZNAME:CEST
DTSTART:20250330T010000
END:DAYLIGHT
BEGIN:STANDARD
TZOFFSETFROM:+0200
TZOFFSETTO:+0100
TZNAME:CET
DTSTART:20251026T010000
END:STANDARD
BEGIN:DAYLIGHT
TZOFFSETFROM:+0100
TZOFFSETTO:+0200
TZNAME:CEST
DTSTART:20260329T010000
END:DAYLIGHT
BEGIN:STANDARD
TZOFFSETFROM:+0200
TZOFFSETTO:+0100
TZNAME:CET
DTSTART:20261025T010000
END:STANDARD
BEGIN:DAYLIGHT
TZOFFSETFROM:+0100
TZOFFSETTO:+0200
TZNAME:CEST
DTSTART:20270328T010000
END:DAYLIGHT
BEGIN:STANDARD
TZOFFSETFROM:+0200
TZOFFSETTO:+0100
TZNAME:CET
DTSTART:20271031T010000
END:STANDARD
END:VTIMEZONE
BEGIN:VEVENT
DTSTART;VALUE=DATE:20260115
DTEND;VALUE=DATE:20260116
DTSTAMP:20260422T180734
CREATED:20251220T100424Z
LAST-MODIFIED:20260419T113208Z
UID:6647-1768435200-1768521599@club-vosgien-guebwiller.fr
SUMMARY:Sortie de Maurice
DESCRIPTION:2026 01 15 Communiqué sortie Westhalten
URL:http://club-vosgien-guebwiller.fr/event/sortie-de-maurice-44/
CATEGORIES:Randonnées
END:VEVENT
BEGIN:VEVENT
DTSTART;TZID=Europe/Paris:20260115T090000
DTEND;TZID=Europe/Paris:20260115T110000
DTSTAMP:20260422T180734
CREATED:20251223T154655Z
LAST-MODIFIED:20260419T113241Z
UID:6757-1768467600-1768474800@club-vosgien-guebwiller.fr
SUMMARY:Marche Nordique
DESCRIPTION:Lieu : Parking du Cimetière Militaire de Guebwiller \nDurée : 2 heures échauffement et étirements compris \n1 seul niveau : Jacqueline & Jean-Paul \nUne participation de 3 € est demandée pour les non-adhérents (assurance)
URL:http://club-vosgien-guebwiller.fr/event/marche-nordique-41/
LOCATION:Parking du Cimetière Militaire Guebwiller\, W632+PHW Guebwiller\, France\, Guebwiller\, 68500\, France
CATEGORIES:Marche Nordique
END:VEVENT
BEGIN:VEVENT
DTSTART;TZID=Europe/Paris:20260115T130000
DTEND;TZID=Europe/Paris:20260115T170000
DTSTAMP:20260422T180734
CREATED:20251220T103132Z
LAST-MODIFIED:20260419T113303Z
UID:6660-1768482000-1768496400@club-vosgien-guebwiller.fr
SUMMARY:Les Randos du jeudi - Le Chaudron du Diable
DESCRIPTION:Animateur : Pierre PRUD’HOMME \nLautenbach (parking du cimetière) – le chaudron du diable – l’engesltein – Durrenbach – Kapellenacker – Lautenbach \nDistance : 10 kms dénivelé 220 m + \nTemps de marche : 3 h 30 \nRendez-vous : 9 h rue Victor Hugo à Guebwiller \nInscription  chez Pierre 06 88 98 07 10
URL:http://club-vosgien-guebwiller.fr/event/randonnee-le-chaudron-du-diable/
LOCATION:Rue Victor Hugo Guebwiller\, W638+9G3 Guebwiller\, 68500\, France
CATEGORIES:Randonnées
END:VEVENT
END:VCALENDAR