BEGIN:VCALENDAR
VERSION:2.0
PRODID:-//Club Vosgien de Guebwiller - ECPv6.15.20//NONSGML v1.0//EN
CALSCALE:GREGORIAN
METHOD:PUBLISH
X-WR-CALNAME:Club Vosgien de Guebwiller
X-ORIGINAL-URL:http://club-vosgien-guebwiller.fr
X-WR-CALDESC:Évènements pour Club Vosgien de Guebwiller
REFRESH-INTERVAL;VALUE=DURATION:PT1H
X-Robots-Tag:noindex
X-PUBLISHED-TTL:PT1H
BEGIN:VTIMEZONE
TZID:Europe/Paris
BEGIN:DAYLIGHT
TZOFFSETFROM:+0100
TZOFFSETTO:+0200
TZNAME:CEST
DTSTART:20250330T010000
END:DAYLIGHT
BEGIN:STANDARD
TZOFFSETFROM:+0200
TZOFFSETTO:+0100
TZNAME:CET
DTSTART:20251026T010000
END:STANDARD
BEGIN:DAYLIGHT
TZOFFSETFROM:+0100
TZOFFSETTO:+0200
TZNAME:CEST
DTSTART:20260329T010000
END:DAYLIGHT
BEGIN:STANDARD
TZOFFSETFROM:+0200
TZOFFSETTO:+0100
TZNAME:CET
DTSTART:20261025T010000
END:STANDARD
BEGIN:DAYLIGHT
TZOFFSETFROM:+0100
TZOFFSETTO:+0200
TZNAME:CEST
DTSTART:20270328T010000
END:DAYLIGHT
BEGIN:STANDARD
TZOFFSETFROM:+0200
TZOFFSETTO:+0100
TZNAME:CET
DTSTART:20271031T010000
END:STANDARD
END:VTIMEZONE
BEGIN:VEVENT
DTSTART;TZID=Europe/Paris:20260221T150000
DTEND;TZID=Europe/Paris:20260221T180000
DTSTAMP:20260422T134626
CREATED:20260203T174724Z
LAST-MODIFIED:20260419T114308Z
UID:7258-1771686000-1771696800@club-vosgien-guebwiller.fr
SUMMARY:Assemblée Générale 2026 du Club Vosgien de Guebwiller CVG.
DESCRIPTION:Pensez que pour assister à l’AG et avoir un droit de vote vous devez être à jour de votre adhésion. \nNous espérons vous voir nombreux !
URL:http://club-vosgien-guebwiller.fr/event/assemblee-generale-du-club-vosgien-de-guebwiller-cvg/
LOCATION:Salle de Gymnastique 1860 Guebwiller\, 25 Rue de Reims\, Guebwiller\, 68500\, France
CATEGORIES:Fête & Exposition
END:VEVENT
END:VCALENDAR