BEGIN:VCALENDAR
VERSION:2.0
PRODID:-//Club Vosgien de Guebwiller - ECPv6.15.20//NONSGML v1.0//EN
CALSCALE:GREGORIAN
METHOD:PUBLISH
X-WR-CALNAME:Club Vosgien de Guebwiller
X-ORIGINAL-URL:http://club-vosgien-guebwiller.fr
X-WR-CALDESC:Évènements pour Club Vosgien de Guebwiller
REFRESH-INTERVAL;VALUE=DURATION:PT1H
X-Robots-Tag:noindex
X-PUBLISHED-TTL:PT1H
BEGIN:VTIMEZONE
TZID:Europe/Paris
BEGIN:DAYLIGHT
TZOFFSETFROM:+0100
TZOFFSETTO:+0200
TZNAME:CEST
DTSTART:20250330T010000
END:DAYLIGHT
BEGIN:STANDARD
TZOFFSETFROM:+0200
TZOFFSETTO:+0100
TZNAME:CET
DTSTART:20251026T010000
END:STANDARD
BEGIN:DAYLIGHT
TZOFFSETFROM:+0100
TZOFFSETTO:+0200
TZNAME:CEST
DTSTART:20260329T010000
END:DAYLIGHT
BEGIN:STANDARD
TZOFFSETFROM:+0200
TZOFFSETTO:+0100
TZNAME:CET
DTSTART:20261025T010000
END:STANDARD
BEGIN:DAYLIGHT
TZOFFSETFROM:+0100
TZOFFSETTO:+0200
TZNAME:CEST
DTSTART:20270328T010000
END:DAYLIGHT
BEGIN:STANDARD
TZOFFSETFROM:+0200
TZOFFSETTO:+0100
TZNAME:CET
DTSTART:20271031T010000
END:STANDARD
END:VTIMEZONE
BEGIN:VEVENT
DTSTART;VALUE=DATE:20260226
DTEND;VALUE=DATE:20260227
DTSTAMP:20260422T103858
CREATED:20260125T093131Z
LAST-MODIFIED:20260219T124919Z
UID:7034-1772064000-1772150399@club-vosgien-guebwiller.fr
SUMMARY:Les sorties de Maurice - Collines et étangs du Sundgau
DESCRIPTION:2026 02 26 Communiqué sortie Tagsdorf
URL:http://club-vosgien-guebwiller.fr/event/les-sorties-de-maurice-3/
LOCATION:Parking des Espaces Verts Guebwiller\, Parking Cimetière Route de Colmar\, Guebwiller\, 68500\, France
CATEGORIES:Randonnées
END:VEVENT
BEGIN:VEVENT
DTSTART;TZID=Europe/Paris:20260226T090000
DTEND;TZID=Europe/Paris:20260226T110000
DTSTAMP:20260422T103858
CREATED:20260115T133257Z
LAST-MODIFIED:20260419T114446Z
UID:6935-1772096400-1772103600@club-vosgien-guebwiller.fr
SUMMARY:Marche Nordique
DESCRIPTION:Lieu : Parking du Centre de convalescence de Ste Anne. \nDurée : 2 heures échauffement et étirements compris \n2 niveaux : Jean-Paul\, Marie-Josée \nAttention groupe dynamique et moyen \nUne participation de 3 € est demandée pour les non-adhérents (assurance)
URL:http://club-vosgien-guebwiller.fr/event/marche-nordique-53/
CATEGORIES:Marche Nordique
END:VEVENT
BEGIN:VEVENT
DTSTART;TZID=Europe/Paris:20260226T090000
DTEND;TZID=Europe/Paris:20260226T110000
DTSTAMP:20260422T103858
CREATED:20260223T203401Z
LAST-MODIFIED:20260419T114458Z
UID:7679-1772096400-1772103600@club-vosgien-guebwiller.fr
SUMMARY:Marche Nordique avec Joël
DESCRIPTION:Rendez vous à 8h45/8h50 avec mise en route à 9h sur le grand parking de « Notre Dame du Schauenberg » pour une marche de 2h / 2h15 environ (échauffement et étirement compris). \nParcours circulaire\, variable en fonction de la couleur du ciel. \nIndication véhiculaire pour arriver au parking du Schauenberg : \nEn venant de Guebwiller\, D 83 contourner Rouffach et prendre la sortie suivante « PFAFFENHEIM ». Ensuite centre du village. En arrivant sur la place de la Mairie prendre à gauche devant la fontaine et montez rue du Schauenberg. Suivre les panneaux SCHAUENBERG et vous arrivez sur le grand parking. \nPETIT RAPPEL: \nA l’attention des collègues qui n’ont pas encore répondus concernant le repas du 05 mars. \nVous pouvez consulter le site du Club Vosgien de Guebwiller.   » club-vosgien-guebwiller.fr «  \nSPORTIVEMENT JOEL
URL:http://club-vosgien-guebwiller.fr/event/marche-nordique-avec-joel-3/
LOCATION:Parking Notre Dame du Schauenberg\, X7V7+MM3 Pfaffenheim\, Pfaffenheim\, 68250\, France
CATEGORIES:Marche Nordique
END:VEVENT
BEGIN:VEVENT
DTSTART;TZID=Europe/Paris:20260226T090000
DTEND;TZID=Europe/Paris:20260226T170000
DTSTAMP:20260422T103858
CREATED:20251220T102556Z
LAST-MODIFIED:20260419T114517Z
UID:6655-1772096400-1772125200@club-vosgien-guebwiller.fr
SUMMARY:Les Randos du jeudi - Bergholtz
DESCRIPTION:Animateur : Pierre Ditner \nBergholtz – Bollenberg – Chapelle de la sainte Croix – Sonnenglaenzle – Stiermatt – Soultzmatt – retour par le vigonble d’Orschwihr – Bergholtz \nDistance : 13 kms dénivelé 310D+ \nTemps de marche : 4 heures \nRendez-vous : 9 h rue Victor Hugo à Guebwiller \nRepas le midi au restaurant  » Better de Soultzmatt \nRéservation obligatoire au moins 1 semaine avant chez Pierre 06 16 37 47 35
URL:http://club-vosgien-guebwiller.fr/event/randonnee-a-soultzmatt/
LOCATION:Rue Victor Hugo Guebwiller\, W638+9G3 Guebwiller\, 68500\, France
CATEGORIES:Marche Nordique
END:VEVENT
END:VCALENDAR