BEGIN:VCALENDAR
VERSION:2.0
PRODID:-//Club Vosgien de Guebwiller - ECPv6.15.20//NONSGML v1.0//EN
CALSCALE:GREGORIAN
METHOD:PUBLISH
X-WR-CALNAME:Club Vosgien de Guebwiller
X-ORIGINAL-URL:http://club-vosgien-guebwiller.fr
X-WR-CALDESC:Évènements pour Club Vosgien de Guebwiller
REFRESH-INTERVAL;VALUE=DURATION:PT1H
X-Robots-Tag:noindex
X-PUBLISHED-TTL:PT1H
BEGIN:VTIMEZONE
TZID:Europe/Paris
BEGIN:DAYLIGHT
TZOFFSETFROM:+0100
TZOFFSETTO:+0200
TZNAME:CEST
DTSTART:20250330T010000
END:DAYLIGHT
BEGIN:STANDARD
TZOFFSETFROM:+0200
TZOFFSETTO:+0100
TZNAME:CET
DTSTART:20251026T010000
END:STANDARD
BEGIN:DAYLIGHT
TZOFFSETFROM:+0100
TZOFFSETTO:+0200
TZNAME:CEST
DTSTART:20260329T010000
END:DAYLIGHT
BEGIN:STANDARD
TZOFFSETFROM:+0200
TZOFFSETTO:+0100
TZNAME:CET
DTSTART:20261025T010000
END:STANDARD
BEGIN:DAYLIGHT
TZOFFSETFROM:+0100
TZOFFSETTO:+0200
TZNAME:CEST
DTSTART:20270328T010000
END:DAYLIGHT
BEGIN:STANDARD
TZOFFSETFROM:+0200
TZOFFSETTO:+0100
TZNAME:CET
DTSTART:20271031T010000
END:STANDARD
END:VTIMEZONE
BEGIN:VEVENT
DTSTART;TZID=Europe/Paris:20260303T093000
DTEND;TZID=Europe/Paris:20260303T120000
DTSTAMP:20260422T104032
CREATED:20260210T140008Z
LAST-MODIFIED:20260419T114755Z
UID:7324-1772530200-1772539200@club-vosgien-guebwiller.fr
SUMMARY:Marche Nordique d'initiation + Visite flash de l'Office de Tourisme
DESCRIPTION:Séance s’adressant aux débutants.\nLieu du rendez-vous: Parking de Murbach\, puis devant l’Abbaye.\nDurée : 2 heures échauffement et étirements compris.\nPrêt de bâtons possible pour les 2 premières séances\, contactez Evelyne. \nPour les non-adhérents une participation de 3 euros est demandée. \nEvelyne: 07 88 33 28 20 \nMadeleine: 07 71 19 06 55 \n  \n  \nInformation complémentaire: \nA l’issue de cette marche une visite flash de l’Office de Tourisme de Guebwiller est proposée à ceux qui le souhaitent de 12h30 à 13h00.
URL:http://club-vosgien-guebwiller.fr/event/marche-nordique-dinitiation-9/
LOCATION:Parking de Murbach\, W5F6+77F Murbach\, France\, Murbach\, 68530\, France
CATEGORIES:Marche Nordique
END:VEVENT
BEGIN:VEVENT
DTSTART;TZID=Europe/Paris:20260303T140000
DTEND;TZID=Europe/Paris:20260303T170000
DTSTAMP:20260422T104032
CREATED:20260220T090419Z
LAST-MODIFIED:20260419T114812Z
UID:7587-1772546400-1772557200@club-vosgien-guebwiller.fr
SUMMARY:Rando Douce - Menhirs de l'Appenthal
DESCRIPTION:34 - Invitation Menhirs de l'Appenthal
URL:http://club-vosgien-guebwiller.fr/event/rando-douce-menhirs-de-lappenwihr/
CATEGORIES:Randonnées
END:VEVENT
END:VCALENDAR