BEGIN:VCALENDAR
VERSION:2.0
PRODID:-//Club Vosgien de Guebwiller - ECPv6.15.20//NONSGML v1.0//EN
CALSCALE:GREGORIAN
METHOD:PUBLISH
X-WR-CALNAME:Club Vosgien de Guebwiller
X-ORIGINAL-URL:http://club-vosgien-guebwiller.fr
X-WR-CALDESC:Évènements pour Club Vosgien de Guebwiller
REFRESH-INTERVAL;VALUE=DURATION:PT1H
X-Robots-Tag:noindex
X-PUBLISHED-TTL:PT1H
BEGIN:VTIMEZONE
TZID:Europe/Paris
BEGIN:DAYLIGHT
TZOFFSETFROM:+0100
TZOFFSETTO:+0200
TZNAME:CEST
DTSTART:20250330T010000
END:DAYLIGHT
BEGIN:STANDARD
TZOFFSETFROM:+0200
TZOFFSETTO:+0100
TZNAME:CET
DTSTART:20251026T010000
END:STANDARD
BEGIN:DAYLIGHT
TZOFFSETFROM:+0100
TZOFFSETTO:+0200
TZNAME:CEST
DTSTART:20260329T010000
END:DAYLIGHT
BEGIN:STANDARD
TZOFFSETFROM:+0200
TZOFFSETTO:+0100
TZNAME:CET
DTSTART:20261025T010000
END:STANDARD
BEGIN:DAYLIGHT
TZOFFSETFROM:+0100
TZOFFSETTO:+0200
TZNAME:CEST
DTSTART:20270328T010000
END:DAYLIGHT
BEGIN:STANDARD
TZOFFSETFROM:+0200
TZOFFSETTO:+0100
TZNAME:CET
DTSTART:20271031T010000
END:STANDARD
END:VTIMEZONE
BEGIN:VEVENT
DTSTART;TZID=Europe/Paris:20260320T140000
DTEND;TZID=Europe/Paris:20260320T160000
DTSTAMP:20260422T103854
CREATED:20260216T142744Z
LAST-MODIFIED:20260419T120002Z
UID:7398-1774015200-1774022400@club-vosgien-guebwiller.fr
SUMMARY:Marche Nordique avec Marie-Jo
DESCRIPTION:Lieu : Parking du Cimetière Roumain de Soultzmatt \nDurée : 2 heures échauffement et étirements compris \n1 niveau moyen : Marie-Jo \nUne participation de 3 € est demandée pour les non-adhérents (assurance)
URL:http://club-vosgien-guebwiller.fr/event/marche-nordique-avec-marie-jo-3/
LOCATION:Parking du Cimetière Roumain Soultzmatt\, X647+MX4 Soultzmatt\, France\, Soultzmatt\, 68570\, France
CATEGORIES:Marche Nordique
ORGANIZER;CN="Marie Jos%C3%A9e Fergant":MAILTO:mariejosee.fergant68@gmail.com
END:VEVENT
END:VCALENDAR