BEGIN:VCALENDAR
VERSION:2.0
PRODID:-//Club Vosgien de Guebwiller - ECPv6.15.20//NONSGML v1.0//EN
CALSCALE:GREGORIAN
METHOD:PUBLISH
X-ORIGINAL-URL:http://club-vosgien-guebwiller.fr
X-WR-CALDESC:Évènements pour Club Vosgien de Guebwiller
REFRESH-INTERVAL;VALUE=DURATION:PT1H
X-Robots-Tag:noindex
X-PUBLISHED-TTL:PT1H
BEGIN:VTIMEZONE
TZID:Europe/Paris
BEGIN:DAYLIGHT
TZOFFSETFROM:+0100
TZOFFSETTO:+0200
TZNAME:CEST
DTSTART:20250330T010000
END:DAYLIGHT
BEGIN:STANDARD
TZOFFSETFROM:+0200
TZOFFSETTO:+0100
TZNAME:CET
DTSTART:20251026T010000
END:STANDARD
BEGIN:DAYLIGHT
TZOFFSETFROM:+0100
TZOFFSETTO:+0200
TZNAME:CEST
DTSTART:20260329T010000
END:DAYLIGHT
BEGIN:STANDARD
TZOFFSETFROM:+0200
TZOFFSETTO:+0100
TZNAME:CET
DTSTART:20261025T010000
END:STANDARD
BEGIN:DAYLIGHT
TZOFFSETFROM:+0100
TZOFFSETTO:+0200
TZNAME:CEST
DTSTART:20270328T010000
END:DAYLIGHT
BEGIN:STANDARD
TZOFFSETFROM:+0200
TZOFFSETTO:+0100
TZNAME:CET
DTSTART:20271031T010000
END:STANDARD
END:VTIMEZONE
BEGIN:VEVENT
DTSTART;TZID=Europe/Paris:20260330T090000
DTEND;TZID=Europe/Paris:20260330T110000
DTSTAMP:20260422T073401
CREATED:20260210T132441Z
LAST-MODIFIED:20260418T221101Z
UID:7308-1774861200-1774868400@club-vosgien-guebwiller.fr
SUMMARY:Marche Nordique
DESCRIPTION:Lieu : Parking du Cimetière Roumain Soultzmatt \nDurée : 2 heures échauffement et étirements compris \n3 niveaux : Jacqueline/Jean-Paul\, Françoise\, Marie-Jo \nUne participation de 3 € est demandée pour les non-adhérents (assurance)
URL:http://club-vosgien-guebwiller.fr/event/marche-nordique-9/
LOCATION:Parking du Cimetière Roumain Soultzmatt\, X647+MX4 Soultzmatt\, France\, Soultzmatt\, 68570\, France
CATEGORIES:Marche Nordique
END:VEVENT
BEGIN:VEVENT
DTSTART;TZID=Europe/Paris:20260330T190000
DTEND;TZID=Europe/Paris:20260330T203000
DTSTAMP:20260422T073401
CREATED:20260210T134437Z
LAST-MODIFIED:20260418T221118Z
UID:7320-1774897200-1774902600@club-vosgien-guebwiller.fr
SUMMARY:Marche Nordique du lundi soir
DESCRIPTION:Cette sortie s’adresse aux personnes ayant déjà pratiqué la Marche Nordique et capables de suivre un rythme « soutenu ». \nMerci de ne pas oublier votre lampe frontale\, ni vos pads et de porter un gilet jaune. \n  \nLieu : Parking Pizzeria l’Anémone du Florival à Buhl. \nDébut: 19h00 \nFin: 20h30 \nDurée : 1\,5 heures échauffement et étirements compris (horaire d’hiver) \nAnimateur : Jean-Paul \nUne participation de 3 € est demandée pour les non-adhérents (assurance)
URL:http://club-vosgien-guebwiller.fr/event/marche-nordique-du-lundi-soir-12/
LOCATION:Parking Pizzeria l’Anémone du Florival Buhl\, W5MJ+RV3 Buhl\, France\, Buhl\, 68530\, France
CATEGORIES:Marche Nordique
END:VEVENT
END:VCALENDAR