BEGIN:VCALENDAR
VERSION:2.0
PRODID:-//Club Vosgien de Guebwiller - ECPv6.15.20//NONSGML v1.0//EN
CALSCALE:GREGORIAN
METHOD:PUBLISH
X-WR-CALNAME:Club Vosgien de Guebwiller
X-ORIGINAL-URL:http://club-vosgien-guebwiller.fr
X-WR-CALDESC:Évènements pour Club Vosgien de Guebwiller
REFRESH-INTERVAL;VALUE=DURATION:PT1H
X-Robots-Tag:noindex
X-PUBLISHED-TTL:PT1H
BEGIN:VTIMEZONE
TZID:Europe/Paris
BEGIN:DAYLIGHT
TZOFFSETFROM:+0100
TZOFFSETTO:+0200
TZNAME:CEST
DTSTART:20250330T010000
END:DAYLIGHT
BEGIN:STANDARD
TZOFFSETFROM:+0200
TZOFFSETTO:+0100
TZNAME:CET
DTSTART:20251026T010000
END:STANDARD
BEGIN:DAYLIGHT
TZOFFSETFROM:+0100
TZOFFSETTO:+0200
TZNAME:CEST
DTSTART:20260329T010000
END:DAYLIGHT
BEGIN:STANDARD
TZOFFSETFROM:+0200
TZOFFSETTO:+0100
TZNAME:CET
DTSTART:20261025T010000
END:STANDARD
BEGIN:DAYLIGHT
TZOFFSETFROM:+0100
TZOFFSETTO:+0200
TZNAME:CEST
DTSTART:20270328T010000
END:DAYLIGHT
BEGIN:STANDARD
TZOFFSETFROM:+0200
TZOFFSETTO:+0100
TZNAME:CET
DTSTART:20271031T010000
END:STANDARD
END:VTIMEZONE
BEGIN:VEVENT
DTSTART;VALUE=DATE:20260423
DTEND;VALUE=DATE:20260424
DTSTAMP:20260423T014532
CREATED:20260318T184126Z
LAST-MODIFIED:20260418T214627Z
UID:7969-1776902400-1776988799@club-vosgien-guebwiller.fr
SUMMARY:Les sorties de Maurice - Cascades en cascade
DESCRIPTION:2026 04 23 Communiqué sortie Wildenstein
URL:http://club-vosgien-guebwiller.fr/event/7969/
LOCATION:Parking des Espaces Verts Guebwiller\, Parking Cimetière Route de Colmar\, Guebwiller\, 68500\, France
CATEGORIES:Randonnées
END:VEVENT
BEGIN:VEVENT
DTSTART;TZID=Europe/Paris:20260423T090000
DTEND;TZID=Europe/Paris:20260423T110000
DTSTAMP:20260423T014532
CREATED:20260317T123929Z
LAST-MODIFIED:20260418T212925Z
UID:7904-1776934800-1776942000@club-vosgien-guebwiller.fr
SUMMARY:Marche Nordique
DESCRIPTION:Lieu : Parking de l’Ancienne Gare de Guebwiller. \nDurée : 2 heures échauffement et étirements compris \n1 seul niveau dynamique: Jacqueline/Jean-Paul \nUne participation de 3 € est demandée pour les non-adhérents (assurance).
URL:http://club-vosgien-guebwiller.fr/event/marche-nordique-15/
LOCATION:Parking de l’Ancienne Gare Guebwiller\, 6 Avenue du Maréchal Foch\, Guebwiller\, 68500\, France
CATEGORIES:Marche Nordique
END:VEVENT
BEGIN:VEVENT
DTSTART;TZID=Europe/Paris:20260423T090000
DTEND;TZID=Europe/Paris:20260423T110000
DTSTAMP:20260423T014532
CREATED:20260420T153002Z
LAST-MODIFIED:20260420T153002Z
UID:8508-1776934800-1776942000@club-vosgien-guebwiller.fr
SUMMARY:Marche Nordique avec Joël
DESCRIPTION:Rendez-vous à 8h45/8h50 avec mise en route à 9h sur le parking de l’Aire de loisirs du Florival pour une marche de 2h / 2h15 environ (échauffement et étirements compris). \nEn venant de Guebwiller\, D430\, traversez Buhl. \nA la sortie de Buhl\, terrain de foot à gauche. 500 m plus loin\, entrée du parking à gauche. \nCircuit prévu via le col du « Schrangen » mais variable en fonction de la météo. \n  \nVOTRE ATTENTION \n Prévoir du temps libre après la séance. \n Des collègues nous offrent un pot pour leurs anniversaires chez les GRODWOHL. \n\nVous pouvez consulter le site du Club Vosgien de Guebwiller.   » club-vosgien-guebwiller.fr « 
URL:http://club-vosgien-guebwiller.fr/event/marche-nordique-avec-joel-10/
LOCATION:Aire de Loisirs du Florival\, W5Q7+M8G Lautenbach\, Lautenbach\, 68610
CATEGORIES:Marche Nordique
END:VEVENT
BEGIN:VEVENT
DTSTART;TZID=Europe/Paris:20260423T090000
DTEND;TZID=Europe/Paris:20260423T140000
DTSTAMP:20260423T014532
CREATED:20260318T192252Z
LAST-MODIFIED:20260418T213634Z
UID:7992-1776934800-1776952800@club-vosgien-guebwiller.fr
SUMMARY:Les Randos du jeudi - Bourbach-le-Bas
DESCRIPTION:23 avril 2026 St GEORGES: Bourbach-le-Bas \nAnimatrice: Colette IMBACH. \nRODEREN – Chapelle Maria auf dem Rain – Rammersmatt – Bourbach-le-Bas restaurant « A la Couronne d’Or » – Arboretum – Aire de jeux – RODEREN \n12km\, dénivelé 275D+ \nRéservation obligatoire au moins 1 semaine avant chez Colette 06 36 60 85 18 pour le repas de midi au restaurant « A la Couronne d’Or ». \nTemps de marche: 4 heures \nRDV : 9 heures \nNiveau facile
URL:http://club-vosgien-guebwiller.fr/event/les-randos-du-jeudi/
LOCATION:Rue Victor Hugo Guebwiller\, W638+9G3 Guebwiller\, 68500\, France
CATEGORIES:Randonnées
END:VEVENT
END:VCALENDAR