BEGIN:VCALENDAR
VERSION:2.0
PRODID:-//Club Vosgien de Guebwiller - ECPv6.15.20//NONSGML v1.0//EN
CALSCALE:GREGORIAN
METHOD:PUBLISH
X-WR-CALNAME:Club Vosgien de Guebwiller
X-ORIGINAL-URL:http://club-vosgien-guebwiller.fr
X-WR-CALDESC:Évènements pour Club Vosgien de Guebwiller
REFRESH-INTERVAL;VALUE=DURATION:PT1H
X-Robots-Tag:noindex
X-PUBLISHED-TTL:PT1H
BEGIN:VTIMEZONE
TZID:Europe/Paris
BEGIN:DAYLIGHT
TZOFFSETFROM:+0100
TZOFFSETTO:+0200
TZNAME:CEST
DTSTART:20250330T010000
END:DAYLIGHT
BEGIN:STANDARD
TZOFFSETFROM:+0200
TZOFFSETTO:+0100
TZNAME:CET
DTSTART:20251026T010000
END:STANDARD
BEGIN:DAYLIGHT
TZOFFSETFROM:+0100
TZOFFSETTO:+0200
TZNAME:CEST
DTSTART:20260329T010000
END:DAYLIGHT
BEGIN:STANDARD
TZOFFSETFROM:+0200
TZOFFSETTO:+0100
TZNAME:CET
DTSTART:20261025T010000
END:STANDARD
BEGIN:DAYLIGHT
TZOFFSETFROM:+0100
TZOFFSETTO:+0200
TZNAME:CEST
DTSTART:20270328T010000
END:DAYLIGHT
BEGIN:STANDARD
TZOFFSETFROM:+0200
TZOFFSETTO:+0100
TZNAME:CET
DTSTART:20271031T010000
END:STANDARD
END:VTIMEZONE
BEGIN:VEVENT
DTSTART;TZID=Europe/Paris:20260627T100000
DTEND;TZID=Europe/Paris:20260627T190000
DTSTAMP:20260422T134000
CREATED:20260414T084843Z
LAST-MODIFIED:20260418T221401Z
UID:8411-1782554400-1782586800@club-vosgien-guebwiller.fr
SUMMARY:Fête Médiévale au Château du Hugstein
DESCRIPTION:Le CVG est partenaire et exposant à la Fête Médiévale organisée par l’association Pro Hugstein à l’occasion de ses 20 ans au château du Hugstein. \nVenez nombreux ! \n  \n  \n \n 
URL:http://club-vosgien-guebwiller.fr/event/fete-medievale-au-chateau-du-hugstein/
LOCATION:Chateau du Hugstein\, W5CR+7R Buhl\, Buhl\, 68500\, France
CATEGORIES:Fête & Exposition
ORGANIZER;CN="Club Vosgien de Guebwiller":MAILTO:contact.clubvosgien.guebwiller@gmail.com
END:VEVENT
BEGIN:VEVENT
DTSTART;TZID=Europe/Paris:20260628T100000
DTEND;TZID=Europe/Paris:20260628T180000
DTSTAMP:20260422T134000
CREATED:20260414T085708Z
LAST-MODIFIED:20260418T221418Z
UID:8420-1782640800-1782669600@club-vosgien-guebwiller.fr
SUMMARY:Fête Médiévale au Château du Hugstein
DESCRIPTION:Le CVG est partenaire et exposant à la Fête Médiévale organisée par l’association Pro Hugstein à l’occasion de ses 20 ans au château du Hugstein. \nVenez nombreux ! \n 
URL:http://club-vosgien-guebwiller.fr/event/fete-medievale-au-chateau-du-hugstein-2/
LOCATION:Chateau du Hugstein\, W5CR+7R Buhl\, Buhl\, 68500\, France
CATEGORIES:Fête & Exposition
ORGANIZER;CN="Club Vosgien de Guebwiller":MAILTO:contact.clubvosgien.guebwiller@gmail.com
END:VEVENT
END:VCALENDAR