BEGIN:VCALENDAR
VERSION:2.0
PRODID:-//Club Vosgien de Guebwiller - ECPv6.15.20//NONSGML v1.0//EN
CALSCALE:GREGORIAN
METHOD:PUBLISH
X-WR-CALNAME:Club Vosgien de Guebwiller
X-ORIGINAL-URL:http://club-vosgien-guebwiller.fr
X-WR-CALDESC:Évènements pour Club Vosgien de Guebwiller
REFRESH-INTERVAL;VALUE=DURATION:PT1H
X-Robots-Tag:noindex
X-PUBLISHED-TTL:PT1H
BEGIN:VTIMEZONE
TZID:Europe/Paris
BEGIN:DAYLIGHT
TZOFFSETFROM:+0100
TZOFFSETTO:+0200
TZNAME:CEST
DTSTART:20250330T010000
END:DAYLIGHT
BEGIN:STANDARD
TZOFFSETFROM:+0200
TZOFFSETTO:+0100
TZNAME:CET
DTSTART:20251026T010000
END:STANDARD
BEGIN:DAYLIGHT
TZOFFSETFROM:+0100
TZOFFSETTO:+0200
TZNAME:CEST
DTSTART:20260329T010000
END:DAYLIGHT
BEGIN:STANDARD
TZOFFSETFROM:+0200
TZOFFSETTO:+0100
TZNAME:CET
DTSTART:20261025T010000
END:STANDARD
BEGIN:DAYLIGHT
TZOFFSETFROM:+0100
TZOFFSETTO:+0200
TZNAME:CEST
DTSTART:20270328T010000
END:DAYLIGHT
BEGIN:STANDARD
TZOFFSETFROM:+0200
TZOFFSETTO:+0100
TZNAME:CET
DTSTART:20271031T010000
END:STANDARD
END:VTIMEZONE
BEGIN:VEVENT
DTSTART;TZID=Europe/Paris:20260303T140000
DTEND;TZID=Europe/Paris:20260303T170000
DTSTAMP:20260420T121055
CREATED:20260220T090419Z
LAST-MODIFIED:20260419T114812Z
UID:7587-1772546400-1772557200@club-vosgien-guebwiller.fr
SUMMARY:Rando Douce - Menhirs de l'Appenthal
DESCRIPTION:34 - Invitation Menhirs de l'Appenthal
URL:http://club-vosgien-guebwiller.fr/event/rando-douce-menhirs-de-lappenwihr/
CATEGORIES:Randonnées
END:VEVENT
BEGIN:VEVENT
DTSTART;VALUE=DATE:20260305
DTEND;VALUE=DATE:20260306
DTSTAMP:20260420T121055
CREATED:20260219T124650Z
LAST-MODIFIED:20260419T114955Z
UID:7497-1772668800-1772755199@club-vosgien-guebwiller.fr
SUMMARY:Les sorties de Maurice - Willer sur Thur
DESCRIPTION:2026 03 05 Communiqué sortie Willer
URL:http://club-vosgien-guebwiller.fr/event/les-sorties-de-maurice-willer-sur-tour/
LOCATION:Parking des Espaces Verts Guebwiller\, Parking Cimetière Route de Colmar\, Guebwiller\, 68500\, France
CATEGORIES:Randonnées
END:VEVENT
BEGIN:VEVENT
DTSTART;TZID=Europe/Paris:20260305T130000
DTEND;TZID=Europe/Paris:20260305T170000
DTSTAMP:20260420T121055
CREATED:20251220T104109Z
LAST-MODIFIED:20260419T115110Z
UID:6666-1772715600-1772730000@club-vosgien-guebwiller.fr
SUMMARY:Les Randos du jeudi - Randonnée Lac de Michelbach
DESCRIPTION:Animateur : Pierre Prud’homme \nGuewenheim – Grossacker – Lac de Michelbach – Barrage – Hungerberg – Aspach-le-Haut Arboretum – Guewenheim \nDistance : 10 kms dénivelé 100 D+ \nTemps de marche : 4 heures \nRendez-vous : 13h rue Victor Hugo à Guebwiller \nInscription chez Pierre 06 88 98 07 10
URL:http://club-vosgien-guebwiller.fr/event/randonnee-lac-de-michelbach/
LOCATION:Rue Victor Hugo Guebwiller\, W638+9G3 Guebwiller\, 68500\, France
CATEGORIES:Randonnées
END:VEVENT
BEGIN:VEVENT
DTSTART;TZID=Europe/Paris:20260311T130000
DTEND;TZID=Europe/Paris:20260311T173000
DTSTAMP:20260420T121055
CREATED:20260219T123108Z
LAST-MODIFIED:20260419T115422Z
UID:7483-1773234000-1773250200@club-vosgien-guebwiller.fr
SUMMARY:Petite balade avec visite au départ de Wattwiller
DESCRIPTION:2026 03 11 Communiqué petite balade
URL:http://club-vosgien-guebwiller.fr/event/petite-balade-avec-visite-au-depart-de-wattwiller/
LOCATION:Parking de la Fondation François Schneider Wattwiller\, 27 Rue de la Première Armée\, Wattwiller\, 68700
CATEGORIES:Randonnées
END:VEVENT
BEGIN:VEVENT
DTSTART;VALUE=DATE:20260312
DTEND;VALUE=DATE:20260313
DTSTAMP:20260420T121055
CREATED:20260219T123552Z
LAST-MODIFIED:20260419T115439Z
UID:7488-1773273600-1773359999@club-vosgien-guebwiller.fr
SUMMARY:Les sorties de Maurice - Rougemont le Château.
DESCRIPTION:2026 03 12 Communiqué sortie Rougemont
URL:http://club-vosgien-guebwiller.fr/event/sortie-maurice-rougemont-le-chateau/
LOCATION:Parking des Espaces Verts Guebwiller\, Parking Cimetière Route de Colmar\, Guebwiller\, 68500\, France
CATEGORIES:Randonnées
END:VEVENT
BEGIN:VEVENT
DTSTART;TZID=Europe/Paris:20260312T090000
DTEND;TZID=Europe/Paris:20260312T170000
DTSTAMP:20260420T121055
CREATED:20260216T152109Z
LAST-MODIFIED:20260419T115528Z
UID:7410-1773306000-1773334800@club-vosgien-guebwiller.fr
SUMMARY:Les Randos du jeudi - Col de la Wolfsgrube
DESCRIPTION:Jeudi 12 mars nous irons marcher dans la vallée du Florival\, de Buhl à Lautenbach-Zell. \nAu départ du parking de l’Eglise de Buhl nous passerons au Col du Schrangen – Col de la Wolfsgrube pour rejoindre le Restaurant « A La Truite » à Lautenbach-Zell où nous prendrons le repas de midi en commun. \nLe retour se fera par le Geffenthal. \nEnviron 12 km et 370 D+. \nTemps de marche : 4 heures 30mn \nDépart à 9 heures rue Victor Hugo à Guebwiller pour le covoiturage \n  \nVeuillez me confirmer votre participation à cette randonnée soit par mail\, soit par sms\, soit par téléphone au 06 36 60 85 18 pour la réservation du repas au restaurant au plus tard lundi 09 mars à 18 heures.
URL:http://club-vosgien-guebwiller.fr/event/col-de-wolfsgrube/
LOCATION:Rue Victor Hugo Guebwiller\, W638+9G3 Guebwiller\, 68500\, France
CATEGORIES:Randonnées
END:VEVENT
BEGIN:VEVENT
DTSTART;TZID=Europe/Paris:20260314T130000
DTEND;TZID=Europe/Paris:20260314T173000
DTSTAMP:20260420T121055
CREATED:20260219T123317Z
LAST-MODIFIED:20260419T115615Z
UID:7486-1773493200-1773509400@club-vosgien-guebwiller.fr
SUMMARY:Petite balade avec visite au départ de Wattwiller
DESCRIPTION:2026 03 11 Communiqué petite balade
URL:http://club-vosgien-guebwiller.fr/event/petite-balade-avec-visite-au-depart-de-wattwiller-2/
LOCATION:Parking de la Fondation François Schneider Wattwiller\, 27 Rue de la Première Armée\, Wattwiller\, 68700
CATEGORIES:Randonnées
END:VEVENT
BEGIN:VEVENT
DTSTART;TZID=Europe/Paris:20260317T140000
DTEND;TZID=Europe/Paris:20260317T170000
DTSTAMP:20260420T121055
CREATED:20260220T091127Z
LAST-MODIFIED:20260419T115854Z
UID:7590-1773756000-1773766800@club-vosgien-guebwiller.fr
SUMMARY:Rando Douce - Mittelwihr
DESCRIPTION:89 - Invitation Mittelwihr - 2
URL:http://club-vosgien-guebwiller.fr/event/rando-douce-mittelwihr/
LOCATION:Parking des Espaces Verts Guebwiller\, Parking Cimetière Route de Colmar\, Guebwiller\, 68500\, France
CATEGORIES:Randonnées
END:VEVENT
BEGIN:VEVENT
DTSTART;VALUE=DATE:20260319
DTEND;VALUE=DATE:20260320
DTSTAMP:20260420T121055
CREATED:20260219T124522Z
LAST-MODIFIED:20260419T115911Z
UID:7495-1773878400-1773964799@club-vosgien-guebwiller.fr
SUMMARY:Les sorties de Maurice - Château du Schlossberg
DESCRIPTION:2026 03 19 Communiqué sortie Kruth
URL:http://club-vosgien-guebwiller.fr/event/les-sorties-de-maurice-chateau-du-schlossberg/
LOCATION:Parking des Espaces Verts Guebwiller\, Parking Cimetière Route de Colmar\, Guebwiller\, 68500\, France
CATEGORIES:Randonnées
END:VEVENT
BEGIN:VEVENT
DTSTART;TZID=Europe/Paris:20260319T130000
DTEND;TZID=Europe/Paris:20260319T170000
DTSTAMP:20260420T121055
CREATED:20251220T102841Z
LAST-MODIFIED:20260318T202553Z
UID:6658-1773925200-1773939600@club-vosgien-guebwiller.fr
SUMMARY:Les Randos du jeudi - Randonnée les amandiers en fleurs
DESCRIPTION:Animateur : Pierre Ditner \nBeblenheim – Mandelberg – Sonnenglantz – Zellenberg – Hohrain – Beblenheim \nDistance : 8 kms dénivelé 150 D+ \nTemps de marche : 4 heures \nRendez-vous : 13 h rue Victor Hugo à Guebwiller \nInscription  chez Pierre 06 16 37 47 35
URL:http://club-vosgien-guebwiller.fr/event/randonnee-les-amandiers-en-fleurs/
LOCATION:Rue Victor Hugo Guebwiller\, W638+9G3 Guebwiller\, 68500\, France
CATEGORIES:Randonnées
END:VEVENT
BEGIN:VEVENT
DTSTART;TZID=Europe/Paris:20260325T133000
DTEND;TZID=Europe/Paris:20260325T170000
DTSTAMP:20260420T121055
CREATED:20260307T175635Z
LAST-MODIFIED:20260419T120901Z
UID:7779-1774445400-1774458000@club-vosgien-guebwiller.fr
SUMMARY:Sortie "Marcher - S'amuser"
DESCRIPTION:2026 03 25 Communiqué sortie marcher\, s'amuser
URL:http://club-vosgien-guebwiller.fr/event/sortie-marcher-samuser-2/
LOCATION:Parking du Cimetière Militaire Guebwiller\, W632+PHW Guebwiller\, France\, Guebwiller\, 68500\, France
CATEGORIES:Randonnées
END:VEVENT
BEGIN:VEVENT
DTSTART;VALUE=DATE:20260326
DTEND;VALUE=DATE:20260327
DTSTAMP:20260420T121056
CREATED:20260219T123757Z
LAST-MODIFIED:20260419T120916Z
UID:7490-1774483200-1774569599@club-vosgien-guebwiller.fr
SUMMARY:Les sorties de Maurice - Château de l’Ortenbourg
DESCRIPTION:2026 03 26 Communiqué sortie Dieffenthal
URL:http://club-vosgien-guebwiller.fr/event/sortie-maurice-chateau-de-lortenbourg/
LOCATION:Parking des Espaces Verts Guebwiller\, Parking Cimetière Route de Colmar\, Guebwiller\, 68500\, France
CATEGORIES:Randonnées
END:VEVENT
END:VCALENDAR