BEGIN:VCALENDAR
VERSION:2.0
PRODID:-//Club Vosgien de Guebwiller - ECPv6.15.20//NONSGML v1.0//EN
CALSCALE:GREGORIAN
METHOD:PUBLISH
X-ORIGINAL-URL:http://club-vosgien-guebwiller.fr
X-WR-CALDESC:Évènements pour Club Vosgien de Guebwiller
REFRESH-INTERVAL;VALUE=DURATION:PT1H
X-Robots-Tag:noindex
X-PUBLISHED-TTL:PT1H
BEGIN:VTIMEZONE
TZID:Europe/Paris
BEGIN:DAYLIGHT
TZOFFSETFROM:+0100
TZOFFSETTO:+0200
TZNAME:CEST
DTSTART:20250330T010000
END:DAYLIGHT
BEGIN:STANDARD
TZOFFSETFROM:+0200
TZOFFSETTO:+0100
TZNAME:CET
DTSTART:20251026T010000
END:STANDARD
BEGIN:DAYLIGHT
TZOFFSETFROM:+0100
TZOFFSETTO:+0200
TZNAME:CEST
DTSTART:20260329T010000
END:DAYLIGHT
BEGIN:STANDARD
TZOFFSETFROM:+0200
TZOFFSETTO:+0100
TZNAME:CET
DTSTART:20261025T010000
END:STANDARD
BEGIN:DAYLIGHT
TZOFFSETFROM:+0100
TZOFFSETTO:+0200
TZNAME:CEST
DTSTART:20270328T010000
END:DAYLIGHT
BEGIN:STANDARD
TZOFFSETFROM:+0200
TZOFFSETTO:+0100
TZNAME:CET
DTSTART:20271031T010000
END:STANDARD
END:VTIMEZONE
BEGIN:VEVENT
DTSTART;TZID=Europe/Paris:20260604T090000
DTEND;TZID=Europe/Paris:20260604T150000
DTSTAMP:20260420T134645
CREATED:20260318T193450Z
LAST-MODIFIED:20260418T220447Z
UID:8003-1780563600-1780585200@club-vosgien-guebwiller.fr
SUMMARY:Les Randos du jeudi - Le rocher du Waldeck
DESCRIPTION:4 juin 2026 : Ste OLIVE: Le rocher du Waldeck \nAnimateur: Pierre DITNER. \nRIMBACH (parking oratoire) – Col de Peternit (566m) – Munsterackerle (655m) – Rocher du Waldeck – \nCol de Judenhut – Ferme Auberge de la Glashütte – Wustengraben – Diffenbach – Schwarzbach – RIMBACH. \n13\,5km\, dénivelé 500D+ \nRéservation obligatoire au moins 1 semaine avant chez Pierre 06 16 37 47 35 pour le repas de midi à la ferme auberge de la Glashütte. \nTemps de marche: 5 heures \nRDV : 9 heures \nNiveau moyen
URL:http://club-vosgien-guebwiller.fr/event/les-randos-du-jeudi-le-rocher-du-waldeck/
LOCATION:Rue Victor Hugo Guebwiller\, W638+9G3 Guebwiller\, 68500\, France
CATEGORIES:Randonnées
END:VEVENT
BEGIN:VEVENT
DTSTART;TZID=Europe/Paris:20260612T083000
DTEND;TZID=Europe/Paris:20260612T170000
DTSTAMP:20260420T134645
CREATED:20260414T092425Z
LAST-MODIFIED:20260418T220540Z
UID:8426-1781253000-1781283600@club-vosgien-guebwiller.fr
SUMMARY:Accompagnement de la sortie du CCAS au Steinlebach
DESCRIPTION:Le CVG accompagnera le CCAS de Guebwiller pour une sortie au Steinlebach. \n  \nCommuniqué du CCAS: \n« Sortie pédestre avec repas à la Ferme Auberge du Steinlebach (possibilité de s’inscrire uniquement au repas). \nParking Filanova – 27/35 rue de Lucerne – derrière le Crédit Mutuel. \n8h30 : Accueil des participants sur le parking Filanova (co-voiturage) \n9h00 : Randonnée tous niveaux encadrée par le Club Vosgien \n12h00 : Repas (hors boissons) – Auberge du Steinlebach\, route des crêtes \nAttention: Réunion d’information le mardi 12 mai de 14hà 16h à la Maison des solidarités » \n  \n \n \n 
URL:http://club-vosgien-guebwiller.fr/event/sortie-du-ccas-au-steinlebach/
LOCATION:Parking Filanova\, W645+QG Guebwiller\, Guebwiller\, 68500\, France
CATEGORIES:Randonnées
ORGANIZER;CN="CCAS Guebwiller":MAILTO:ccas@ville-guebwiller.fr
END:VEVENT
BEGIN:VEVENT
DTSTART;TZID=Europe/Paris:20260618T090000
DTEND;TZID=Europe/Paris:20260618T150000
DTSTAMP:20260420T134645
CREATED:20260318T193711Z
LAST-MODIFIED:20260418T220632Z
UID:8005-1781773200-1781794800@club-vosgien-guebwiller.fr
SUMMARY:Les Randos du jeudi - Mitzach
DESCRIPTION:18 juin 2026 Ste. LÉONCE: Mitzach \nAnimatrice: Colette IMBACH. \nMITZACH (parking cimetière) – Sentier découverte – Lesle – Hirschbachkopf – Fontaine de la Lune – \nFirmenweiher – Camping Les bouleaux – Ranspach – Wesserling – Stoerenburg – MITZACH. \n11km\, dénivelé 270D+ \nRéservation obligatoire au moins 1 semaine avant chez Colette 06 36 60 85 18 pour le repas de midi au restaurant « La Thur Taller » au camping Les Bouleaux. \nTemps de marche : 4 heures30 \nRDV : 9 heures \nNiveau moyen
URL:http://club-vosgien-guebwiller.fr/event/les-randos-du-jeudi-mitzach/
LOCATION:Rue Victor Hugo Guebwiller\, W638+9G3 Guebwiller\, 68500\, France
CATEGORIES:Randonnées
END:VEVENT
BEGIN:VEVENT
DTSTART;TZID=Europe/Paris:20260625T090000
DTEND;TZID=Europe/Paris:20260625T150000
DTSTAMP:20260420T134645
CREATED:20260318T193934Z
LAST-MODIFIED:20260418T220719Z
UID:8007-1782378000-1782399600@club-vosgien-guebwiller.fr
SUMMARY:Les Randos du jeudi - Le Chauvelin
DESCRIPTION:25 juin 2026: St PROSPER: Le Chauvelin \nAnimateur: Pierre PRUD’HOMME \nSTORCKENSOHN (parking de la mairie) – Source de la Blosenmatt – Le Chauvelin – Huselberg Winkel – Wesserling – La Fabrique – retour par Mollau – Erlenweiher – Eichkopf – STORCKENSOHN. \n14km\, dénivelé 400D+. \nRepas tiré du sac. \nInscription chez Pierre 06 88 98 07 10 \nTemps de marche : 5 heures \nRDV : 9 heures \nNiveau moyen
URL:http://club-vosgien-guebwiller.fr/event/les-randos-du-jeudi-le-chauvelin/
LOCATION:Rue Victor Hugo Guebwiller\, W638+9G3 Guebwiller\, 68500\, France
CATEGORIES:Randonnées
END:VEVENT
END:VCALENDAR