BEGIN:VCALENDAR
VERSION:2.0
PRODID:-//Club Vosgien de Guebwiller - ECPv6.15.20//NONSGML v1.0//EN
CALSCALE:GREGORIAN
METHOD:PUBLISH
X-ORIGINAL-URL:http://club-vosgien-guebwiller.fr
X-WR-CALDESC:Évènements pour Club Vosgien de Guebwiller
REFRESH-INTERVAL;VALUE=DURATION:PT1H
X-Robots-Tag:noindex
X-PUBLISHED-TTL:PT1H
BEGIN:VTIMEZONE
TZID:Europe/Paris
BEGIN:DAYLIGHT
TZOFFSETFROM:+0100
TZOFFSETTO:+0200
TZNAME:CEST
DTSTART:20250330T010000
END:DAYLIGHT
BEGIN:STANDARD
TZOFFSETFROM:+0200
TZOFFSETTO:+0100
TZNAME:CET
DTSTART:20251026T010000
END:STANDARD
BEGIN:DAYLIGHT
TZOFFSETFROM:+0100
TZOFFSETTO:+0200
TZNAME:CEST
DTSTART:20260329T010000
END:DAYLIGHT
BEGIN:STANDARD
TZOFFSETFROM:+0200
TZOFFSETTO:+0100
TZNAME:CET
DTSTART:20261025T010000
END:STANDARD
BEGIN:DAYLIGHT
TZOFFSETFROM:+0100
TZOFFSETTO:+0200
TZNAME:CEST
DTSTART:20270328T010000
END:DAYLIGHT
BEGIN:STANDARD
TZOFFSETFROM:+0200
TZOFFSETTO:+0100
TZNAME:CET
DTSTART:20271031T010000
END:STANDARD
END:VTIMEZONE
BEGIN:VEVENT
DTSTART;VALUE=DATE:20260212
DTEND;VALUE=DATE:20260213
DTSTAMP:20260420T160517
CREATED:20260125T093216Z
LAST-MODIFIED:20260125T093216Z
UID:7036-1770854400-1770940799@club-vosgien-guebwiller.fr
SUMMARY:Les sorties de Maurice
DESCRIPTION:2026 02 12 Communiqué sortie Rougemont
URL:http://club-vosgien-guebwiller.fr/event/les-sorties-de-maurice-6/
CATEGORIES:Randonnées
END:VEVENT
BEGIN:VEVENT
DTSTART;TZID=Europe/Paris:20260212T090000
DTEND;TZID=Europe/Paris:20260212T130000
DTSTAMP:20260420T160517
CREATED:20251220T103812Z
LAST-MODIFIED:20260419T114042Z
UID:6664-1770886800-1770901200@club-vosgien-guebwiller.fr
SUMMARY:Les Randos du jeudi - Bourbach- le-Bas
DESCRIPTION:Animatrice : Colette Imbach \nRoderen – Chapelle Maria auf dem Rain-Rammersmatt – bourbach-le-bas restaurant « à la couronne d’or » – Arboretum – aire de jeux – Roderen \nDistance : 13 kms 310 m + \nTemps de marche : 4 heures \nRendez-vous : 9 h rue Victor Hugo à Guebwiller \nRéservation obligatoire au moins 1 semaine avant chez Colette 06 36 60 85 18
URL:http://club-vosgien-guebwiller.fr/event/randonnee-bourbach-le-bas/
LOCATION:Rue Victor Hugo Guebwiller\, W638+9G3 Guebwiller\, 68500\, France
CATEGORIES:Randonnées
END:VEVENT
END:VCALENDAR