BEGIN:VCALENDAR
VERSION:2.0
PRODID:-//Club Vosgien de Guebwiller - ECPv6.15.20//NONSGML v1.0//EN
CALSCALE:GREGORIAN
METHOD:PUBLISH
X-WR-CALNAME:Club Vosgien de Guebwiller
X-ORIGINAL-URL:http://club-vosgien-guebwiller.fr
X-WR-CALDESC:Évènements pour Club Vosgien de Guebwiller
REFRESH-INTERVAL;VALUE=DURATION:PT1H
X-Robots-Tag:noindex
X-PUBLISHED-TTL:PT1H
BEGIN:VTIMEZONE
TZID:Europe/Paris
BEGIN:DAYLIGHT
TZOFFSETFROM:+0100
TZOFFSETTO:+0200
TZNAME:CEST
DTSTART:20250330T010000
END:DAYLIGHT
BEGIN:STANDARD
TZOFFSETFROM:+0200
TZOFFSETTO:+0100
TZNAME:CET
DTSTART:20251026T010000
END:STANDARD
BEGIN:DAYLIGHT
TZOFFSETFROM:+0100
TZOFFSETTO:+0200
TZNAME:CEST
DTSTART:20260329T010000
END:DAYLIGHT
BEGIN:STANDARD
TZOFFSETFROM:+0200
TZOFFSETTO:+0100
TZNAME:CET
DTSTART:20261025T010000
END:STANDARD
BEGIN:DAYLIGHT
TZOFFSETFROM:+0100
TZOFFSETTO:+0200
TZNAME:CEST
DTSTART:20270328T010000
END:DAYLIGHT
BEGIN:STANDARD
TZOFFSETFROM:+0200
TZOFFSETTO:+0100
TZNAME:CET
DTSTART:20271031T010000
END:STANDARD
END:VTIMEZONE
BEGIN:VEVENT
DTSTART;VALUE=DATE:20260305
DTEND;VALUE=DATE:20260306
DTSTAMP:20260420T194633
CREATED:20260219T124650Z
LAST-MODIFIED:20260419T114955Z
UID:7497-1772668800-1772755199@club-vosgien-guebwiller.fr
SUMMARY:Les sorties de Maurice - Willer sur Thur
DESCRIPTION:2026 03 05 Communiqué sortie Willer
URL:http://club-vosgien-guebwiller.fr/event/les-sorties-de-maurice-willer-sur-tour/
LOCATION:Parking des Espaces Verts Guebwiller\, Parking Cimetière Route de Colmar\, Guebwiller\, 68500\, France
CATEGORIES:Randonnées
END:VEVENT
BEGIN:VEVENT
DTSTART;TZID=Europe/Paris:20260305T130000
DTEND;TZID=Europe/Paris:20260305T170000
DTSTAMP:20260420T194633
CREATED:20251220T104109Z
LAST-MODIFIED:20260419T115110Z
UID:6666-1772715600-1772730000@club-vosgien-guebwiller.fr
SUMMARY:Les Randos du jeudi - Randonnée Lac de Michelbach
DESCRIPTION:Animateur : Pierre Prud’homme \nGuewenheim – Grossacker – Lac de Michelbach – Barrage – Hungerberg – Aspach-le-Haut Arboretum – Guewenheim \nDistance : 10 kms dénivelé 100 D+ \nTemps de marche : 4 heures \nRendez-vous : 13h rue Victor Hugo à Guebwiller \nInscription chez Pierre 06 88 98 07 10
URL:http://club-vosgien-guebwiller.fr/event/randonnee-lac-de-michelbach/
LOCATION:Rue Victor Hugo Guebwiller\, W638+9G3 Guebwiller\, 68500\, France
CATEGORIES:Randonnées
END:VEVENT
END:VCALENDAR