BEGIN:VCALENDAR
VERSION:2.0
PRODID:-//Club Vosgien de Guebwiller - ECPv6.15.20//NONSGML v1.0//EN
CALSCALE:GREGORIAN
METHOD:PUBLISH
X-WR-CALNAME:Club Vosgien de Guebwiller
X-ORIGINAL-URL:http://club-vosgien-guebwiller.fr
X-WR-CALDESC:Évènements pour Club Vosgien de Guebwiller
REFRESH-INTERVAL;VALUE=DURATION:PT1H
X-Robots-Tag:noindex
X-PUBLISHED-TTL:PT1H
BEGIN:VTIMEZONE
TZID:Europe/Paris
BEGIN:DAYLIGHT
TZOFFSETFROM:+0100
TZOFFSETTO:+0200
TZNAME:CEST
DTSTART:20250330T010000
END:DAYLIGHT
BEGIN:STANDARD
TZOFFSETFROM:+0200
TZOFFSETTO:+0100
TZNAME:CET
DTSTART:20251026T010000
END:STANDARD
BEGIN:DAYLIGHT
TZOFFSETFROM:+0100
TZOFFSETTO:+0200
TZNAME:CEST
DTSTART:20260329T010000
END:DAYLIGHT
BEGIN:STANDARD
TZOFFSETFROM:+0200
TZOFFSETTO:+0100
TZNAME:CET
DTSTART:20261025T010000
END:STANDARD
BEGIN:DAYLIGHT
TZOFFSETFROM:+0100
TZOFFSETTO:+0200
TZNAME:CEST
DTSTART:20270328T010000
END:DAYLIGHT
BEGIN:STANDARD
TZOFFSETFROM:+0200
TZOFFSETTO:+0100
TZNAME:CET
DTSTART:20271031T010000
END:STANDARD
END:VTIMEZONE
BEGIN:VEVENT
DTSTART;VALUE=DATE:20260312
DTEND;VALUE=DATE:20260313
DTSTAMP:20260421T001010
CREATED:20260219T123552Z
LAST-MODIFIED:20260419T115439Z
UID:7488-1773273600-1773359999@club-vosgien-guebwiller.fr
SUMMARY:Les sorties de Maurice - Rougemont le Château.
DESCRIPTION:2026 03 12 Communiqué sortie Rougemont
URL:http://club-vosgien-guebwiller.fr/event/sortie-maurice-rougemont-le-chateau/
LOCATION:Parking des Espaces Verts Guebwiller\, Parking Cimetière Route de Colmar\, Guebwiller\, 68500\, France
CATEGORIES:Randonnées
END:VEVENT
BEGIN:VEVENT
DTSTART;TZID=Europe/Paris:20260312T090000
DTEND;TZID=Europe/Paris:20260312T170000
DTSTAMP:20260421T001010
CREATED:20260216T152109Z
LAST-MODIFIED:20260419T115528Z
UID:7410-1773306000-1773334800@club-vosgien-guebwiller.fr
SUMMARY:Les Randos du jeudi - Col de la Wolfsgrube
DESCRIPTION:Jeudi 12 mars nous irons marcher dans la vallée du Florival\, de Buhl à Lautenbach-Zell. \nAu départ du parking de l’Eglise de Buhl nous passerons au Col du Schrangen – Col de la Wolfsgrube pour rejoindre le Restaurant « A La Truite » à Lautenbach-Zell où nous prendrons le repas de midi en commun. \nLe retour se fera par le Geffenthal. \nEnviron 12 km et 370 D+. \nTemps de marche : 4 heures 30mn \nDépart à 9 heures rue Victor Hugo à Guebwiller pour le covoiturage \n  \nVeuillez me confirmer votre participation à cette randonnée soit par mail\, soit par sms\, soit par téléphone au 06 36 60 85 18 pour la réservation du repas au restaurant au plus tard lundi 09 mars à 18 heures.
URL:http://club-vosgien-guebwiller.fr/event/col-de-wolfsgrube/
LOCATION:Rue Victor Hugo Guebwiller\, W638+9G3 Guebwiller\, 68500\, France
CATEGORIES:Randonnées
END:VEVENT
END:VCALENDAR