BEGIN:VCALENDAR
VERSION:2.0
PRODID:-//Club Vosgien de Guebwiller - ECPv6.15.20//NONSGML v1.0//EN
CALSCALE:GREGORIAN
METHOD:PUBLISH
X-WR-CALNAME:Club Vosgien de Guebwiller
X-ORIGINAL-URL:http://club-vosgien-guebwiller.fr
X-WR-CALDESC:Évènements pour Club Vosgien de Guebwiller
REFRESH-INTERVAL;VALUE=DURATION:PT1H
X-Robots-Tag:noindex
X-PUBLISHED-TTL:PT1H
BEGIN:VTIMEZONE
TZID:Europe/Paris
BEGIN:DAYLIGHT
TZOFFSETFROM:+0100
TZOFFSETTO:+0200
TZNAME:CEST
DTSTART:20250330T010000
END:DAYLIGHT
BEGIN:STANDARD
TZOFFSETFROM:+0200
TZOFFSETTO:+0100
TZNAME:CET
DTSTART:20251026T010000
END:STANDARD
BEGIN:DAYLIGHT
TZOFFSETFROM:+0100
TZOFFSETTO:+0200
TZNAME:CEST
DTSTART:20260329T010000
END:DAYLIGHT
BEGIN:STANDARD
TZOFFSETFROM:+0200
TZOFFSETTO:+0100
TZNAME:CET
DTSTART:20261025T010000
END:STANDARD
BEGIN:DAYLIGHT
TZOFFSETFROM:+0100
TZOFFSETTO:+0200
TZNAME:CEST
DTSTART:20270328T010000
END:DAYLIGHT
BEGIN:STANDARD
TZOFFSETFROM:+0200
TZOFFSETTO:+0100
TZNAME:CET
DTSTART:20271031T010000
END:STANDARD
END:VTIMEZONE
BEGIN:VEVENT
DTSTART;TZID=Europe/Paris:20260604T090000
DTEND;TZID=Europe/Paris:20260604T150000
DTSTAMP:20260420T194506
CREATED:20260318T193450Z
LAST-MODIFIED:20260418T220447Z
UID:8003-1780563600-1780585200@club-vosgien-guebwiller.fr
SUMMARY:Les Randos du jeudi - Le rocher du Waldeck
DESCRIPTION:4 juin 2026 : Ste OLIVE: Le rocher du Waldeck \nAnimateur: Pierre DITNER. \nRIMBACH (parking oratoire) – Col de Peternit (566m) – Munsterackerle (655m) – Rocher du Waldeck – \nCol de Judenhut – Ferme Auberge de la Glashütte – Wustengraben – Diffenbach – Schwarzbach – RIMBACH. \n13\,5km\, dénivelé 500D+ \nRéservation obligatoire au moins 1 semaine avant chez Pierre 06 16 37 47 35 pour le repas de midi à la ferme auberge de la Glashütte. \nTemps de marche: 5 heures \nRDV : 9 heures \nNiveau moyen
URL:http://club-vosgien-guebwiller.fr/event/les-randos-du-jeudi-le-rocher-du-waldeck/
LOCATION:Rue Victor Hugo Guebwiller\, W638+9G3 Guebwiller\, 68500\, France
CATEGORIES:Randonnées
END:VEVENT
END:VCALENDAR