BEGIN:VCALENDAR
VERSION:2.0
PRODID:-//Club Vosgien de Guebwiller - ECPv6.15.20//NONSGML v1.0//EN
CALSCALE:GREGORIAN
METHOD:PUBLISH
X-ORIGINAL-URL:http://club-vosgien-guebwiller.fr
X-WR-CALDESC:Évènements pour Club Vosgien de Guebwiller
REFRESH-INTERVAL;VALUE=DURATION:PT1H
X-Robots-Tag:noindex
X-PUBLISHED-TTL:PT1H
BEGIN:VTIMEZONE
TZID:Europe/Paris
BEGIN:DAYLIGHT
TZOFFSETFROM:+0100
TZOFFSETTO:+0200
TZNAME:CEST
DTSTART:20250330T010000
END:DAYLIGHT
BEGIN:STANDARD
TZOFFSETFROM:+0200
TZOFFSETTO:+0100
TZNAME:CET
DTSTART:20251026T010000
END:STANDARD
BEGIN:DAYLIGHT
TZOFFSETFROM:+0100
TZOFFSETTO:+0200
TZNAME:CEST
DTSTART:20260329T010000
END:DAYLIGHT
BEGIN:STANDARD
TZOFFSETFROM:+0200
TZOFFSETTO:+0100
TZNAME:CET
DTSTART:20261025T010000
END:STANDARD
BEGIN:DAYLIGHT
TZOFFSETFROM:+0100
TZOFFSETTO:+0200
TZNAME:CEST
DTSTART:20270328T010000
END:DAYLIGHT
BEGIN:STANDARD
TZOFFSETFROM:+0200
TZOFFSETTO:+0100
TZNAME:CET
DTSTART:20271031T010000
END:STANDARD
END:VTIMEZONE
BEGIN:VEVENT
DTSTART;TZID=Europe/Paris:20260423T090000
DTEND;TZID=Europe/Paris:20260423T140000
DTSTAMP:20260424T120607
CREATED:20260318T192252Z
LAST-MODIFIED:20260418T213634Z
UID:7992-1776934800-1776952800@club-vosgien-guebwiller.fr
SUMMARY:Les Randos du jeudi - Bourbach-le-Bas
DESCRIPTION:23 avril 2026 St GEORGES: Bourbach-le-Bas \nAnimatrice: Colette IMBACH. \nRODEREN – Chapelle Maria auf dem Rain – Rammersmatt – Bourbach-le-Bas restaurant « A la Couronne d’Or » – Arboretum – Aire de jeux – RODEREN \n12km\, dénivelé 275D+ \nRéservation obligatoire au moins 1 semaine avant chez Colette 06 36 60 85 18 pour le repas de midi au restaurant « A la Couronne d’Or ». \nTemps de marche: 4 heures \nRDV : 9 heures \nNiveau facile
URL:http://club-vosgien-guebwiller.fr/event/les-randos-du-jeudi/
LOCATION:Rue Victor Hugo Guebwiller\, W638+9G3 Guebwiller\, 68500\, France
CATEGORIES:Randonnées
END:VEVENT
BEGIN:VEVENT
DTSTART;TZID=Europe/Paris:20260423T090000
DTEND;TZID=Europe/Paris:20260423T110000
DTSTAMP:20260424T120607
CREATED:20260420T153002Z
LAST-MODIFIED:20260420T153002Z
UID:8508-1776934800-1776942000@club-vosgien-guebwiller.fr
SUMMARY:Marche Nordique avec Joël
DESCRIPTION:Rendez-vous à 8h45/8h50 avec mise en route à 9h sur le parking de l’Aire de loisirs du Florival pour une marche de 2h / 2h15 environ (échauffement et étirements compris). \nEn venant de Guebwiller\, D430\, traversez Buhl. \nA la sortie de Buhl\, terrain de foot à gauche. 500 m plus loin\, entrée du parking à gauche. \nCircuit prévu via le col du « Schrangen » mais variable en fonction de la météo. \n  \nVOTRE ATTENTION \n Prévoir du temps libre après la séance. \n Des collègues nous offrent un pot pour leurs anniversaires chez les GRODWOHL. \n\nVous pouvez consulter le site du Club Vosgien de Guebwiller.   » club-vosgien-guebwiller.fr « 
URL:http://club-vosgien-guebwiller.fr/event/marche-nordique-avec-joel-10/
LOCATION:Aire de Loisirs du Florival\, W5Q7+M8G Lautenbach\, Lautenbach\, 68610
CATEGORIES:Marche Nordique
END:VEVENT
BEGIN:VEVENT
DTSTART;TZID=Europe/Paris:20260423T090000
DTEND;TZID=Europe/Paris:20260423T110000
DTSTAMP:20260424T120607
CREATED:20260317T123929Z
LAST-MODIFIED:20260418T212925Z
UID:7904-1776934800-1776942000@club-vosgien-guebwiller.fr
SUMMARY:Marche Nordique
DESCRIPTION:Lieu : Parking de l’Ancienne Gare de Guebwiller. \nDurée : 2 heures échauffement et étirements compris \n1 seul niveau dynamique: Jacqueline/Jean-Paul \nUne participation de 3 € est demandée pour les non-adhérents (assurance).
URL:http://club-vosgien-guebwiller.fr/event/marche-nordique-15/
LOCATION:Parking de l’Ancienne Gare Guebwiller\, 6 Avenue du Maréchal Foch\, Guebwiller\, 68500\, France
CATEGORIES:Marche Nordique
END:VEVENT
BEGIN:VEVENT
DTSTART;VALUE=DATE:20260423
DTEND;VALUE=DATE:20260424
DTSTAMP:20260424T120607
CREATED:20260318T184126Z
LAST-MODIFIED:20260418T214627Z
UID:7969-1776902400-1776988799@club-vosgien-guebwiller.fr
SUMMARY:Les sorties de Maurice - Cascades en cascade
DESCRIPTION:2026 04 23 Communiqué sortie Wildenstein
URL:http://club-vosgien-guebwiller.fr/event/7969/
LOCATION:Parking des Espaces Verts Guebwiller\, Parking Cimetière Route de Colmar\, Guebwiller\, 68500\, France
CATEGORIES:Randonnées
END:VEVENT
BEGIN:VEVENT
DTSTART;TZID=Europe/Paris:20260421T140000
DTEND;TZID=Europe/Paris:20260421T170000
DTSTAMP:20260424T120607
CREATED:20260318T144206Z
LAST-MODIFIED:20260418T213404Z
UID:7949-1776780000-1776790800@club-vosgien-guebwiller.fr
SUMMARY:Rando Douce Le Bollenberg
DESCRIPTION:92 - Invitation Le Bollenberg
URL:http://club-vosgien-guebwiller.fr/event/rando-douce-2/
CATEGORIES:Randonnées
END:VEVENT
BEGIN:VEVENT
DTSTART;TZID=Europe/Paris:20260421T093000
DTEND;TZID=Europe/Paris:20260421T113000
DTSTAMP:20260424T120607
CREATED:20260325T180912Z
LAST-MODIFIED:20260418T212908Z
UID:8128-1776763800-1776771000@club-vosgien-guebwiller.fr
SUMMARY:Marche Nordique d'initiation
DESCRIPTION:Séance s’adressant aux débutants.\nLieu du rendez-vous: Parking du Cimetière Roumain Gauchmatt.\nDurée : 2 heures échauffement et étirements compris.\nPrêt de bâtons possible pour les 2 premières séances\, contactez Evelyne. \nPour les non-adhérents une participation de 3 euros est demandée. \nEvelyne: 07 88 33 28 20 \nMadeleine: 07 71 19 06 55
URL:http://club-vosgien-guebwiller.fr/event/marche-nordique-dinitiation-16/
LOCATION:Parking du Cimetière Roumain Soultzmatt\, X647+MX4 Soultzmatt\, France\, Soultzmatt\, 68570\, France
CATEGORIES:Marche Nordique
END:VEVENT
BEGIN:VEVENT
DTSTART;TZID=Europe/Paris:20260420T190000
DTEND;TZID=Europe/Paris:20260420T210000
DTSTAMP:20260424T120607
CREATED:20260317T131204Z
LAST-MODIFIED:20260419T123204Z
UID:7914-1776711600-1776718800@club-vosgien-guebwiller.fr
SUMMARY:Marche Nordique du lundi soir
DESCRIPTION:Cette sortie s’adresse aux personnes ayant déjà pratiqué la Marche Nordique et capables de suivre un rythme « soutenu ». \nMerci de ne pas oublier votre lampe frontale\, vos pads ni votre gilet jaune. \n  \nLieu : Parking de l’Aire de Loisirs du Florival. \nDébut: 19h00 \nFin: 21h00 \nDurée : 2 heures échauffement et étirements compris (horaire d’été) \nAnimateur : Jean-Paul \nUne participation de 3 € est demandée pour les non-adhérents (assurance).
URL:http://club-vosgien-guebwiller.fr/event/marche-nordique-du-lundi-soir-14/
LOCATION:Aire de Loisirs du Florival\, W5Q7+M8G Lautenbach\, Lautenbach\, 68610
CATEGORIES:Marche Nordique
END:VEVENT
BEGIN:VEVENT
DTSTART;TZID=Europe/Paris:20260420T090000
DTEND;TZID=Europe/Paris:20260420T110000
DTSTAMP:20260424T120607
CREATED:20260317T102304Z
LAST-MODIFIED:20260418T223733Z
UID:7896-1776675600-1776682800@club-vosgien-guebwiller.fr
SUMMARY:Marche Nordique
DESCRIPTION:Lieu : Parking du Val du Pâtre. \nDurée : 2 heures échauffement et étirements compris \n3 niveaux : Jacqueline\, Jean-Paul\, Françoise \n(le groupe de Marie-Jo\, absente\, sera repris par Jacqueline) \nUne participation de 3 € est demandée pour les non-adhérents (assurance)
URL:http://club-vosgien-guebwiller.fr/event/marche-nordique-11/
LOCATION:Parking du Val du Pâtre Soultzmatt\, X638+5M6 Soultzmatt\, France\, Soultzmatt\, 68570\, France
CATEGORIES:Marche Nordique
END:VEVENT
BEGIN:VEVENT
DTSTART;TZID=Europe/Paris:20260419T090000
DTEND;TZID=Europe/Paris:20260419T170000
DTSTAMP:20260424T120607
CREATED:20260219T121545Z
LAST-MODIFIED:20260418T212759Z
UID:7468-1776589200-1776618000@club-vosgien-guebwiller.fr
SUMMARY:Découverte du HWK - Hartmannswillerkopf - ANNULEE ET REPORTEE A UNE DATE ULTERIEURE
DESCRIPTION:SORTIE ANNULEE: \nCommuniqué de notre guide Jacky Hansen: « J’ai effectué une visite guidée hier et j’ai constaté quelque chose de très embêtant pour nous. Au niveau du Unter-Rehfelsen\, il y a maintenant un panneau d’interdiction d’accès à la Suisse Lippique\, identique à celui placé en bas. Il est clairement spécifié « Sentier interdit – Accès interdit« . AHWK ne pourra pas encadrer des visites guidées à cet endroit tant que cette interdiction ne sera levée » \n  \nInvitation HartmannswillerkopfLe Club Vosgien vous propose une sortie randonnée à la découverte du Hartmannswillerkopf – HWK. \n\n\nLe Hartmannswillerkopf\, appelé aussi Vieil-Armand depuis la fin de la Première Guerre Mondiale\, fut un champ de bataille meurtrier entre Français et Allemands. \n\n\nDe nombreux ouvrages et vestiges subsistent et peuvent être visités. \n\n\nJacques Hansen (dit Jacky)\, membre de l’Association des Amis du Hartmannswillerkopf\, sera notre guide pour cette sortie. \nDes précisions pour l’inscription/réservation de cette sortie suivront. \n\nSortie CVG - HWK
URL:http://club-vosgien-guebwiller.fr/event/sortie-randonnee-et-decouverte-du-hwk-hartmannswillerkopf/
LOCATION:Parking du Domaine du Hirtz Wattwiller\, R5W9+QP8 Wattwiller\, Wattwiller\, 68700\, France
CATEGORIES:Randonnées
ORGANIZER;CN="Club Vosgien de Guebwiller":MAILTO:contact.clubvosgien.guebwiller@gmail.com
END:VEVENT
BEGIN:VEVENT
DTSTART;TZID=Europe/Paris:20260418T090000
DTEND;TZID=Europe/Paris:20260418T120000
DTSTAMP:20260424T120607
CREATED:20260203T171806Z
LAST-MODIFIED:20260418T215502Z
UID:7230-1776502800-1776513600@club-vosgien-guebwiller.fr
SUMMARY:Formation Thématique pour Tous – La boussole - Application pratique sur le terrain.
DESCRIPTION:  \nModule 3-2: Sur le terrain (Annulation en cas de mauvaise météo). \nFormation réservée aux adhérents avec inscription préalable obligatoire à l’adresse suivante: \nmailto:president.cvgueb@gmail.com \nChaque séance peut accueillir 10 personnes. Si plus de 10\, les inscrits sont placés en liste d’attente jusqu’à proposition d’une nouvelle date.
URL:http://club-vosgien-guebwiller.fr/event/formation-thematique-pour-tous-la-boussole-application-pratique-sur-le-terrain/
LOCATION:Parking de la Breilmatt (Aire de jeux des Alliés) Guebwiller\, W663+MJX Guebwiller\, Guebwiller\, 68500\, France
CATEGORIES:Formation Thématique
ORGANIZER;CN="Christian Marguin":MAILTO:president.cvgueb@gmail.com
END:VEVENT
BEGIN:VEVENT
DTSTART;TZID=Europe/Paris:20260416T090000
DTEND;TZID=Europe/Paris:20260416T113000
DTSTAMP:20260424T120607
CREATED:20260413T175823Z
LAST-MODIFIED:20260418T214444Z
UID:8405-1776330000-1776339000@club-vosgien-guebwiller.fr
SUMMARY:Marche Nordique avec Joël
DESCRIPTION:Rendez-vous à 8h45/8h50 avec mise en route à 9h sur le parking du cimetière de Westhalten pour une marche de 2h / 2h15 environ (échauffement et étirement compris). \nParcours circulaire via la Chapelle d’ Oelberg. \nMais variable en fonction de la météo du jour. \nDans le village\, montez vers l’église. Le parking se trouve en face de l’église et à gauche du cimetière \n Vous pouvez consulter le site du Club Vosgien de Guebwiller.   » club-vosgien-guebwiller.fr « 
URL:http://club-vosgien-guebwiller.fr/event/marche-nordique-avec-joel-9/
LOCATION:Parking du cimetière de Westhalten\, X766+279 Westhalten\, Westhalten\, 68250\, France
CATEGORIES:Marche Nordique
END:VEVENT
BEGIN:VEVENT
DTSTART;TZID=Europe/Paris:20260416T090000
DTEND;TZID=Europe/Paris:20260416T110000
DTSTAMP:20260424T120607
CREATED:20260317T123812Z
LAST-MODIFIED:20260418T214428Z
UID:7902-1776330000-1776337200@club-vosgien-guebwiller.fr
SUMMARY:Marche Nordique
DESCRIPTION:Lieu : Parking du Cimetière Militaire de Guebwiller. \nDurée : 2 heures échauffement et étirements compris \n1 seul niveau dynamique: Jacqueline/Jean-Paul \nUne participation de 3 € est demandée pour les non-adhérents (assurance).
URL:http://club-vosgien-guebwiller.fr/event/marche-nordique-14/
LOCATION:Parking du Cimetière Militaire Guebwiller\, W632+PHW Guebwiller\, France\, Guebwiller\, 68500\, France
CATEGORIES:Marche Nordique
END:VEVENT
BEGIN:VEVENT
DTSTART;VALUE=DATE:20260416
DTEND;VALUE=DATE:20260417
DTSTAMP:20260424T120607
CREATED:20260315T120815Z
LAST-MODIFIED:20260418T214410Z
UID:7882-1776297600-1776383999@club-vosgien-guebwiller.fr
SUMMARY:Les sorties de Maurice - Les panoramas du Hohrodberg
DESCRIPTION:2026 04 16 Communiqué sortie Hohrodberg
URL:http://club-vosgien-guebwiller.fr/event/les-sorties-de-maurice-les-panoramas-du-hohrodberg/
LOCATION:Parking des Espaces Verts Guebwiller\, Parking Cimetière Route de Colmar\, Guebwiller\, 68500\, France
CATEGORIES:Randonnées
END:VEVENT
BEGIN:VEVENT
DTSTART;TZID=Europe/Paris:20260415T133000
DTEND;TZID=Europe/Paris:20260415T170000
DTSTAMP:20260424T120607
CREATED:20260327T125939Z
LAST-MODIFIED:20260418T220952Z
UID:8151-1776259800-1776272400@club-vosgien-guebwiller.fr
SUMMARY:Chasse aux trésors
DESCRIPTION:2026 04 15 Communiqué sortie Chasse au Trésor
URL:http://club-vosgien-guebwiller.fr/event/chasse-aux-tresors/
LOCATION:Parking des Espaces Verts Guebwiller\, Parking Cimetière Route de Colmar\, Guebwiller\, 68500\, France
CATEGORIES:Randonnées
END:VEVENT
BEGIN:VEVENT
DTSTART;TZID=Europe/Paris:20260414T093000
DTEND;TZID=Europe/Paris:20260414T113000
DTSTAMP:20260424T120607
CREATED:20260325T180815Z
LAST-MODIFIED:20260418T214344Z
UID:8126-1776159000-1776166200@club-vosgien-guebwiller.fr
SUMMARY:Marche Nordique d'initiation
DESCRIPTION:Séance s’adressant aux débutants.\nLieu du rendez-vous: Parking du Cimetière Roumain Gauchmatt.\nDurée : 2 heures échauffement et étirements compris.\nPrêt de bâtons possible pour les 2 premières séances\, contactez Evelyne. \nPour les non-adhérents une participation de 3 euros est demandée. \nEvelyne: 07 88 33 28 20 \nMadeleine: 07 71 19 06 55
URL:http://club-vosgien-guebwiller.fr/event/marche-nordique-dinitiation-15/
LOCATION:Parking du Cimetière Roumain Soultzmatt\, X647+MX4 Soultzmatt\, France\, Soultzmatt\, 68570\, France
CATEGORIES:Marche Nordique
END:VEVENT
BEGIN:VEVENT
DTSTART;TZID=Europe/Paris:20260413T190000
DTEND;TZID=Europe/Paris:20260413T203000
DTSTAMP:20260424T120607
CREATED:20260317T130924Z
LAST-MODIFIED:20260418T214329Z
UID:7912-1776106800-1776112200@club-vosgien-guebwiller.fr
SUMMARY:Marche Nordique du lundi soir - ANNULEE
DESCRIPTION:Cette sortie s’adresse aux personnes ayant déjà pratiqué la Marche Nordique et capables de suivre un rythme « soutenu ». \nMerci de ne pas oublier votre lampe frontale\, ni vos pads et de porter un gilet jaune. \n  \nLieu : Petit parking du Cimetière de Guebwiller (route de Colmar / route de Bergholtz). \nDébut: 19h00 \nFin: 20h30 \nDurée : 1\,5 heures échauffement et étirements compris (horaire d’hiver) \nAnimateur : Jean-Paul \nUne participation de 3 € est demandée pour les non-adhérents (assurance). \n  \nAttention: A partir du lundi 20 Avril nous repasserons en horaire d’été avec des sorties prévues de 19h à 21H !
URL:http://club-vosgien-guebwiller.fr/event/marche-nordique-du-lundi-soir-13/
LOCATION:Petit parking Cimetière de Guebwiller (Route de Colmar / Route de Bergholtz)\, W64H+7QM Guebwiller\, Guebwiller\, 68500\, France
CATEGORIES:Marche Nordique
END:VEVENT
BEGIN:VEVENT
DTSTART;TZID=Europe/Paris:20260413T090000
DTEND;TZID=Europe/Paris:20260413T110000
DTSTAMP:20260424T120607
CREATED:20260317T102000Z
LAST-MODIFIED:20260418T214315Z
UID:7894-1776070800-1776078000@club-vosgien-guebwiller.fr
SUMMARY:Marche Nordique - ANNULEE
DESCRIPTION:Lieu : Parking de Murbach. \nDurée : 2 heures échauffement et étirements compris \n3 niveaux : Jacqueline\, Jean-Paul\, Françoise \n(le groupe de Marie-Jo\, absente\, sera repris par Jacqueline) \nUne participation de 3 € est demandée pour les non-adhérents (assurance)
URL:http://club-vosgien-guebwiller.fr/event/marche-nordique-10/
LOCATION:Parking de Murbach\, W5F6+77F Murbach\, France\, Murbach\, 68530\, France
CATEGORIES:Marche Nordique
END:VEVENT
BEGIN:VEVENT
DTSTART;TZID=Europe/Paris:20260412T083000
DTEND;TZID=Europe/Paris:20260412T170000
DTSTAMP:20260424T120607
CREATED:20260321T134403Z
LAST-MODIFIED:20260418T214256Z
UID:8023-1775982600-1776013200@club-vosgien-guebwiller.fr
SUMMARY:De Riquewihr aux ruines du Silo
DESCRIPTION:2026 04 12 De Riquewihr aux ruines de Sylo
URL:http://club-vosgien-guebwiller.fr/event/de-riquewihr-aux-ruines-du-silo/
LOCATION:Parking des Espaces Verts Guebwiller\, Parking Cimetière Route de Colmar\, Guebwiller\, 68500\, France
CATEGORIES:Randonnées
END:VEVENT
BEGIN:VEVENT
DTSTART;TZID=Europe/Paris:20260411T090000
DTEND;TZID=Europe/Paris:20260411T120000
DTSTAMP:20260424T120607
CREATED:20260203T170339Z
LAST-MODIFIED:20260418T215434Z
UID:7218-1775898000-1775908800@club-vosgien-guebwiller.fr
SUMMARY:Formation Thématique pour Tous - La boussole.
DESCRIPTION:  \nModule 3-1: En salle. \nFormation réservée aux adhérents avec inscription préalable obligatoire à l’adresse suivante: \nmailto:president.cvgueb@gmail.com \nChaque séance peut accueillir 10 personnes. Si plus de 10\, les inscrits sont placés en liste d’attente jusqu’à proposition d’une nouvelle date.
URL:http://club-vosgien-guebwiller.fr/event/formation-thematique-pour-tous-la-boussole/
LOCATION:Maison du Club Vosgien Guebwiller\, 12 Rue du Canal\, Guebwiller\, 68500\, France
CATEGORIES:Formation Thématique
ORGANIZER;CN="Christian Marguin":MAILTO:president.cvgueb@gmail.com
END:VEVENT
BEGIN:VEVENT
DTSTART;TZID=Europe/Paris:20260410T090000
DTEND;TZID=Europe/Paris:20260410T110000
DTSTAMP:20260424T120607
CREATED:20260216T143254Z
LAST-MODIFIED:20260418T214239Z
UID:7402-1775811600-1775818800@club-vosgien-guebwiller.fr
SUMMARY:Marche Nordique avec Marie-Jo
DESCRIPTION:Lieu : Parking du Bannstein \nDurée : 2 heures échauffement et étirements compris \n1 niveau moyen : Marie-Jo \nUne participation de 3 € est demandée pour les non-adhérents (assurance)
URL:http://club-vosgien-guebwiller.fr/event/marche-nordique-avec-marie-jo-4/
LOCATION:Parking du Bannstein Lautenbach\, X53V+F2X Lautenbach\, 68530\, France
CATEGORIES:Marche Nordique
ORGANIZER;CN="Marie Jos%C3%A9e Fergant":MAILTO:mariejosee.fergant68@gmail.com
END:VEVENT
BEGIN:VEVENT
DTSTART;TZID=Europe/Paris:20260409T090000
DTEND;TZID=Europe/Paris:20260409T140000
DTSTAMP:20260424T120607
CREATED:20260318T191907Z
LAST-MODIFIED:20260418T214224Z
UID:7990-1775725200-1775743200@club-vosgien-guebwiller.fr
SUMMARY:Les Randos du jeudi - Obermorschwihr
DESCRIPTION:9 avril 2026 St. GAUTIER: Obermorschwihr \nAnimateur : Pierre DITNER. \nOBERMORSCHWIHR – Husseren-les-Châteaux -Marbach – Pfeller – Gueberschwihr (restaurant « Bellevue ») – retour Gebreit – Scherkessel – OBERMORSCHWIHR \n11km\, dénivelé 210D+. \nRéservation obligatoire au moins 1 semaine avant chez Pierre 06 16 37 47 35 pour le repas de midi au restaurant « Bellevue » à Gueberschwihr.. \nTemps de marche : 4 heures \nRDV : 9 heures \nNiveau moyen
URL:http://club-vosgien-guebwiller.fr/event/les-randos-du-jeudi-obermorschwihr/
LOCATION:Rue Victor Hugo Guebwiller\, W638+9G3 Guebwiller\, 68500\, France
CATEGORIES:Randonnées
END:VEVENT
BEGIN:VEVENT
DTSTART;TZID=Europe/Paris:20260409T090000
DTEND;TZID=Europe/Paris:20260409T110000
DTSTAMP:20260424T120607
CREATED:20260406T164114Z
LAST-MODIFIED:20260418T214205Z
UID:8263-1775725200-1775732400@club-vosgien-guebwiller.fr
SUMMARY:Marche Nordique avec Joël
DESCRIPTION:Rendez- vous à 8h45/8h50 avec mise en route à 9h sur le parking à droite du restaurant asiatique  « Fin Bec » route de Guebwiller à Soultz pour une marche de 2h/2H15 environ (échauffement et étirement compris). \n  Circuit périphérique au-dessus de Guebwiller via le Nez de Soultz et le Bildstoeckle\, mais variable en fonction du temps. \n  \nVous pouvez consulter le site du Club Vosgien de Guebwiller:  club-vosgien-guebwiller.fr  \n  \nSportivement Joël
URL:http://club-vosgien-guebwiller.fr/event/marche-nordique-avec-joel-8/
LOCATION:Parking du Fin Bec à Soultz\, V6VG+Q2H Soultz-Haut-Rhin\, Soultz\, 68360\, France
CATEGORIES:Marche Nordique
END:VEVENT
BEGIN:VEVENT
DTSTART;TZID=Europe/Paris:20260409T090000
DTEND;TZID=Europe/Paris:20260409T110000
DTSTAMP:20260424T120607
CREATED:20260317T123642Z
LAST-MODIFIED:20260418T214149Z
UID:7900-1775725200-1775732400@club-vosgien-guebwiller.fr
SUMMARY:Marche Nordique
DESCRIPTION:Lieu : Parking du Gros Chêne Wuenheim. \nDurée : 2 heures échauffement et étirements compris \n1 seul niveau dynamique: Jacqueline/Jean-Paul \nUne participation de 3 € est demandée pour les non-adhérents (assurance).
URL:http://club-vosgien-guebwiller.fr/event/marche-nordique-13/
LOCATION:Parking du Gros Chêne Wuenheim\, Parking du Gros Chêne Route du Col Amic\, Wuenheim\, 68500\, France
CATEGORIES:Marche Nordique
END:VEVENT
BEGIN:VEVENT
DTSTART;VALUE=DATE:20260409
DTEND;VALUE=DATE:20260410
DTSTAMP:20260424T120607
CREATED:20260318T183846Z
LAST-MODIFIED:20260418T214132Z
UID:7966-1775692800-1775779199@club-vosgien-guebwiller.fr
SUMMARY:Les sorties de Maurice - Randonnée dans le Jura alsacien
DESCRIPTION:2026 04 09 Communiqué sortie Wolschwiller
URL:http://club-vosgien-guebwiller.fr/event/randonnee-dans-le-jura-alsacien/
LOCATION:Parking des Espaces Verts Guebwiller\, Parking Cimetière Route de Colmar\, Guebwiller\, 68500\, France
CATEGORIES:Randonnées
END:VEVENT
BEGIN:VEVENT
DTSTART;TZID=Europe/Paris:20260407T140000
DTEND;TZID=Europe/Paris:20260407T170000
DTSTAMP:20260424T120607
CREATED:20260318T143825Z
LAST-MODIFIED:20260418T214115Z
UID:7946-1775570400-1775581200@club-vosgien-guebwiller.fr
SUMMARY:Rando Douce Marais du Rothmos
DESCRIPTION:66- Invitation ROTHMOS
URL:http://club-vosgien-guebwiller.fr/event/rando-douce/
CATEGORIES:Randonnées
END:VEVENT
BEGIN:VEVENT
DTSTART;TZID=Europe/Paris:20260407T093000
DTEND;TZID=Europe/Paris:20260407T113000
DTSTAMP:20260424T120607
CREATED:20260325T180712Z
LAST-MODIFIED:20260418T214055Z
UID:8124-1775554200-1775561400@club-vosgien-guebwiller.fr
SUMMARY:Marche Nordique d’initiation
DESCRIPTION:Séance s’adressant aux débutants.\nLieu du rendez-vous: Parking du Cimetière Roumain Gauchmatt.\nDurée : 2 heures échauffement et étirements compris.\nPrêt de bâtons possible pour les 2 premières séances\, contactez Evelyne. \nPour les non-adhérents une participation de 3 euros est demandée. \nEvelyne: 07 88 33 28 20 \nMadeleine: 07 71 19 06 55
URL:http://club-vosgien-guebwiller.fr/event/marche-nordique-dinitiation-14/
LOCATION:Parking du Cimetière Roumain Soultzmatt\, X647+MX4 Soultzmatt\, France\, Soultzmatt\, 68570\, France
CATEGORIES:Marche Nordique
END:VEVENT
BEGIN:VEVENT
DTSTART;VALUE=DATE:20260406
DTEND;VALUE=DATE:20260407
DTSTAMP:20260424T120607
CREATED:20260317T124347Z
LAST-MODIFIED:20260418T215010Z
UID:7908-1775433600-1775519999@club-vosgien-guebwiller.fr
SUMMARY:Lundi de Pâques - Aucune activité !
DESCRIPTION:Aucune activité aujourd’hui !
URL:http://club-vosgien-guebwiller.fr/event/lundi-de-paques/
CATEGORIES:Aucune activité
END:VEVENT
BEGIN:VEVENT
DTSTART;VALUE=DATE:20260403
DTEND;VALUE=DATE:20260404
DTSTAMP:20260424T120607
CREATED:20260317T124609Z
LAST-MODIFIED:20260418T214954Z
UID:7910-1775174400-1775260799@club-vosgien-guebwiller.fr
SUMMARY:Vendredi Saint - Aucune activité !
DESCRIPTION:Aucune activité aujourd’hui !
URL:http://club-vosgien-guebwiller.fr/event/vendredi-saint/
CATEGORIES:Aucune activité
END:VEVENT
BEGIN:VEVENT
DTSTART;TZID=Europe/Paris:20260402T130000
DTEND;TZID=Europe/Paris:20260402T170000
DTSTAMP:20260424T120607
CREATED:20260318T191629Z
LAST-MODIFIED:20260418T214026Z
UID:7988-1775134800-1775149200@club-vosgien-guebwiller.fr
SUMMARY:Les Randos du jeudi - L'Ail des Ours - Rimbach-Zell
DESCRIPTION:AM 2 avril 2026 Ste SANDRINE: Rimbach-Zell \nAnimateur: Pierre PRUD’HOMME. \nGUEBWILLER (parking du cimetière militaire 340m)-Bildstoeckle – Kraftwald – vallon du Rimbach – Puppelstein – Castella Sylva – \ncol du Peternit (566m) – Lindloch-Rehbrunnenkopf (632m) – retour Bildstoeckle-GUEBWILLER \n11km\, dénivelé 350D+ \nPetite balade d’après-midi. Inscription chez Pierre 06 88 98 07 10 \nTemps de marche: 3h30 \nRDV : 13 heures \nNiveau moyen \n  \nRando Florival l'ail des ours jeudi 2 avril 2026 am PPdh
URL:http://club-vosgien-guebwiller.fr/event/les-randos-du-jeudi-rimbach-zell/
LOCATION:Rue Victor Hugo Guebwiller\, W638+9G3 Guebwiller\, 68500\, France
CATEGORIES:Randonnées
END:VEVENT
BEGIN:VEVENT
DTSTART;TZID=Europe/Paris:20260402T090000
DTEND;TZID=Europe/Paris:20260402T110000
DTSTAMP:20260424T120607
CREATED:20260330T153237Z
LAST-MODIFIED:20260418T214007Z
UID:8176-1775120400-1775127600@club-vosgien-guebwiller.fr
SUMMARY:Marche nordique avec Joël
DESCRIPTION:Rendez-vous à 8h45/8h50 avec mise en route à 9h sur le parking de l’Aire de loisirs du Florival pour une marche de 2h / 2h15 environ (échauffement et étirement compris). \nEn venant de Guebwiller\, D430\, traversez Buhl. \nA la sortie de Buhl\, terrain de foot à gauche. 500 m plus loin\, entrée du parking à gauche. \nCircuit prévu via le col du « Schrangen » mais variable en fonction de la météo. \n  \nVous pouvez consulter le site du Club Vosgien de Guebwiller www.club-vosgien-guebwiller.fr \nSportivement\, \nJoël
URL:http://club-vosgien-guebwiller.fr/event/marche-nordique-avec-joel-7/
LOCATION:Aire de Loisirs du Florival\, W5Q7+M8G Lautenbach\, Lautenbach\, 68610
CATEGORIES:Marche Nordique
END:VEVENT
END:VCALENDAR