BEGIN:VCALENDAR
VERSION:2.0
PRODID:-//Club Vosgien de Guebwiller - ECPv6.15.20//NONSGML v1.0//EN
CALSCALE:GREGORIAN
METHOD:PUBLISH
X-ORIGINAL-URL:http://club-vosgien-guebwiller.fr
X-WR-CALDESC:Évènements pour Club Vosgien de Guebwiller
REFRESH-INTERVAL;VALUE=DURATION:PT1H
X-Robots-Tag:noindex
X-PUBLISHED-TTL:PT1H
BEGIN:VTIMEZONE
TZID:Europe/Paris
BEGIN:DAYLIGHT
TZOFFSETFROM:+0100
TZOFFSETTO:+0200
TZNAME:CEST
DTSTART:20250330T010000
END:DAYLIGHT
BEGIN:STANDARD
TZOFFSETFROM:+0200
TZOFFSETTO:+0100
TZNAME:CET
DTSTART:20251026T010000
END:STANDARD
BEGIN:DAYLIGHT
TZOFFSETFROM:+0100
TZOFFSETTO:+0200
TZNAME:CEST
DTSTART:20260329T010000
END:DAYLIGHT
BEGIN:STANDARD
TZOFFSETFROM:+0200
TZOFFSETTO:+0100
TZNAME:CET
DTSTART:20261025T010000
END:STANDARD
BEGIN:DAYLIGHT
TZOFFSETFROM:+0100
TZOFFSETTO:+0200
TZNAME:CEST
DTSTART:20270328T010000
END:DAYLIGHT
BEGIN:STANDARD
TZOFFSETFROM:+0200
TZOFFSETTO:+0100
TZNAME:CET
DTSTART:20271031T010000
END:STANDARD
END:VTIMEZONE
BEGIN:VEVENT
DTSTART;TZID=Europe/Paris:20260302T090000
DTEND;TZID=Europe/Paris:20260302T110000
DTSTAMP:20260422T085451
CREATED:20260210T130959Z
LAST-MODIFIED:20260419T114553Z
UID:7292-1772442000-1772449200@club-vosgien-guebwiller.fr
SUMMARY:Marche Nordique
DESCRIPTION:Lieu : Parking de Murbach. \nDurée : 2 heures échauffement et étirements compris \n3 niveaux : Jean-Paul\, Françoise\, Marie-Jo \nUne participation de 3 € est demandée pour les non-adhérents (assurance)
URL:http://club-vosgien-guebwiller.fr/event/marche-nordique/
LOCATION:Parking de Murbach\, W5F6+77F Murbach\, France\, Murbach\, 68530\, France
CATEGORIES:Marche Nordique
END:VEVENT
BEGIN:VEVENT
DTSTART;TZID=Europe/Paris:20260302T190000
DTEND;TZID=Europe/Paris:20260302T203000
DTSTAMP:20260422T085451
CREATED:20260115T143316Z
LAST-MODIFIED:20260419T114740Z
UID:6948-1772478000-1772483400@club-vosgien-guebwiller.fr
SUMMARY:Marche Nordique du lundi soir
DESCRIPTION:Cette sortie s’adresse aux personnes ayant déjà pratiqué la Marche Nordique et capables de suivre un rythme « soutenu ». \nMerci de ne pas oublier votre lampe frontale\, ni vos pads et de porter un gilet jaune. \n  \nLieu : Parking Pizzeria l’Anémone du Florival à Buhl. \nDébut: 19h00 \nFin: 20h30 \nDurée : 1\,5 heures échauffement et étirements compris (horaire d’hiver) \nAnimateur : Jean-Paul \nUne participation de 3 € est demandée pour les non-adhérents (assurance)
URL:http://club-vosgien-guebwiller.fr/event/marche-nordique-du-lundi-soir-7/
LOCATION:Parking Pizzeria l’Anémone du Florival Buhl\, W5MJ+RV3 Buhl\, France\, Buhl\, 68530\, France
CATEGORIES:Marche Nordique
END:VEVENT
BEGIN:VEVENT
DTSTART;TZID=Europe/Paris:20260303T093000
DTEND;TZID=Europe/Paris:20260303T120000
DTSTAMP:20260422T085451
CREATED:20260210T140008Z
LAST-MODIFIED:20260419T114755Z
UID:7324-1772530200-1772539200@club-vosgien-guebwiller.fr
SUMMARY:Marche Nordique d'initiation + Visite flash de l'Office de Tourisme
DESCRIPTION:Séance s’adressant aux débutants.\nLieu du rendez-vous: Parking de Murbach\, puis devant l’Abbaye.\nDurée : 2 heures échauffement et étirements compris.\nPrêt de bâtons possible pour les 2 premières séances\, contactez Evelyne. \nPour les non-adhérents une participation de 3 euros est demandée. \nEvelyne: 07 88 33 28 20 \nMadeleine: 07 71 19 06 55 \n  \n  \nInformation complémentaire: \nA l’issue de cette marche une visite flash de l’Office de Tourisme de Guebwiller est proposée à ceux qui le souhaitent de 12h30 à 13h00.
URL:http://club-vosgien-guebwiller.fr/event/marche-nordique-dinitiation-9/
LOCATION:Parking de Murbach\, W5F6+77F Murbach\, France\, Murbach\, 68530\, France
CATEGORIES:Marche Nordique
END:VEVENT
BEGIN:VEVENT
DTSTART;TZID=Europe/Paris:20260303T140000
DTEND;TZID=Europe/Paris:20260303T170000
DTSTAMP:20260422T085451
CREATED:20260220T090419Z
LAST-MODIFIED:20260419T114812Z
UID:7587-1772546400-1772557200@club-vosgien-guebwiller.fr
SUMMARY:Rando Douce - Menhirs de l'Appenthal
DESCRIPTION:34 - Invitation Menhirs de l'Appenthal
URL:http://club-vosgien-guebwiller.fr/event/rando-douce-menhirs-de-lappenwihr/
CATEGORIES:Randonnées
END:VEVENT
BEGIN:VEVENT
DTSTART;VALUE=DATE:20260305
DTEND;VALUE=DATE:20260306
DTSTAMP:20260422T085451
CREATED:20260219T124650Z
LAST-MODIFIED:20260419T114955Z
UID:7497-1772668800-1772755199@club-vosgien-guebwiller.fr
SUMMARY:Les sorties de Maurice - Willer sur Thur
DESCRIPTION:2026 03 05 Communiqué sortie Willer
URL:http://club-vosgien-guebwiller.fr/event/les-sorties-de-maurice-willer-sur-tour/
LOCATION:Parking des Espaces Verts Guebwiller\, Parking Cimetière Route de Colmar\, Guebwiller\, 68500\, France
CATEGORIES:Randonnées
END:VEVENT
BEGIN:VEVENT
DTSTART;TZID=Europe/Paris:20260305T090000
DTEND;TZID=Europe/Paris:20260305T110000
DTSTAMP:20260422T085451
CREATED:20260210T131156Z
LAST-MODIFIED:20260419T115011Z
UID:7294-1772701200-1772708400@club-vosgien-guebwiller.fr
SUMMARY:Marche Nordique
DESCRIPTION:Lieu : Parking du Vivarium du Moulin \nDurée : 2 heures échauffement et étirements compris \n1 niveau : Jean-Paul \nUne participation de 3 € est demandée pour les non-adhérents (assurance)
URL:http://club-vosgien-guebwiller.fr/event/marche-nordique-2/
LOCATION:Parking du Vivarium du Moulin Lautenbachzell\, 6 Rue du Moulin\, Lautenbachzell\, 68610\, France
CATEGORIES:Marche Nordique
END:VEVENT
BEGIN:VEVENT
DTSTART;TZID=Europe/Paris:20260305T090000
DTEND;TZID=Europe/Paris:20260305T140000
DTSTAMP:20260422T085451
CREATED:20260213T162355Z
LAST-MODIFIED:20260419T115030Z
UID:7381-1772701200-1772719200@club-vosgien-guebwiller.fr
SUMMARY:Marche Nordique avec Joël + Repas
DESCRIPTION:Rendez-vous à 8h45/8h50 avec mise en route à 9h sur le parking de l’Ancienne Gare de LAUTENBACH pour une marche de 2h / 2h15 environ (échauffement et étirement compris). \nCircuit prévu « Le Chaudron du Diable » mais modifiable en fonction du temps. \nEn venant de Guebwiller\, D430\, rentrez dans Lautenbach. \nA l’église prendre à gauche rue Principale. 300 m plus haut\, le restaurant San Remo est sur votre droite. \nPrendre en face la ruelle\, une pharmacie fait l’angle\, le parking est au bout devant l’ancienne gare. \n  \nEn cas de météo exécrable\, la marche serait annulée mais pas le repas. \nPour les collègues qui ne participent pas à la marche\, rendez-vous à midi au restaurant (sur réservation). \nPour les marcheurs ne pas oublier une 2éme paires de chaussures. Merci pour le responsable de surface. \nMENU à 16\,00 € comprenant : \nUne petite salade paysanne. \nUn filet mignon\, spaetzle grand- mère \nSauce poireaux\, champignons et crème. \nUne tarte citrons meringues. \nUn café ou un thé. Boissons en sus. \n  \nSPORTIVEMENT JOEL
URL:http://club-vosgien-guebwiller.fr/event/marche-nordique-avec-joel-repas/
LOCATION:Parking de l’Ancienne Gare Lautenbach\, W5R4+F9R Lautenbach\, Lautenbach\, 68610\, France
CATEGORIES:Marche Nordique
END:VEVENT
BEGIN:VEVENT
DTSTART;TZID=Europe/Paris:20260305T130000
DTEND;TZID=Europe/Paris:20260305T170000
DTSTAMP:20260422T085451
CREATED:20251220T104109Z
LAST-MODIFIED:20260419T115110Z
UID:6666-1772715600-1772730000@club-vosgien-guebwiller.fr
SUMMARY:Les Randos du jeudi - Randonnée Lac de Michelbach
DESCRIPTION:Animateur : Pierre Prud’homme \nGuewenheim – Grossacker – Lac de Michelbach – Barrage – Hungerberg – Aspach-le-Haut Arboretum – Guewenheim \nDistance : 10 kms dénivelé 100 D+ \nTemps de marche : 4 heures \nRendez-vous : 13h rue Victor Hugo à Guebwiller \nInscription chez Pierre 06 88 98 07 10
URL:http://club-vosgien-guebwiller.fr/event/randonnee-lac-de-michelbach/
LOCATION:Rue Victor Hugo Guebwiller\, W638+9G3 Guebwiller\, 68500\, France
CATEGORIES:Randonnées
END:VEVENT
BEGIN:VEVENT
DTSTART;TZID=Europe/Paris:20260306T140000
DTEND;TZID=Europe/Paris:20260306T160000
DTSTAMP:20260422T085451
CREATED:20260216T141602Z
LAST-MODIFIED:20260419T115126Z
UID:7391-1772805600-1772812800@club-vosgien-guebwiller.fr
SUMMARY:Marche nordique avec Marie-Jo
DESCRIPTION:Lieu : Parking de l’Aire de la Thur – Pont bleu \nDurée : 2 heures échauffement et étirements compris \n1 niveau moyen: Marie-Jo \nUne participation de 3 € est demandée pour les non-adhérents (assurance)
URL:http://club-vosgien-guebwiller.fr/event/marche-nordique-avec-marie-jo/
LOCATION:Parking de la Thur – Pont bleu Pulversheim\, R7VP+JMC Pulversheim\, Pulversheim\, 68190\, France
CATEGORIES:Marche Nordique
ORGANIZER;CN="Marie Jos%C3%A9e Fergant":MAILTO:mariejosee.fergant68@gmail.com
END:VEVENT
BEGIN:VEVENT
DTSTART;TZID=Europe/Paris:20260309T090000
DTEND;TZID=Europe/Paris:20260309T110000
DTSTAMP:20260422T085451
CREATED:20260210T131418Z
LAST-MODIFIED:20260419T115144Z
UID:7296-1773046800-1773054000@club-vosgien-guebwiller.fr
SUMMARY:Marche Nordique
DESCRIPTION:Lieu : Parking des Espaces Verts \nDurée : 2 heures échauffement et étirements compris \n3 niveaux : Jean-Paul\, Françoise\, Marie-Jo \nUne participation de 3 € est demandée pour les non-adhérents (assurance)
URL:http://club-vosgien-guebwiller.fr/event/marche-nordique-3/
LOCATION:Parking des Espaces Verts Guebwiller\, Parking Cimetière Route de Colmar\, Guebwiller\, 68500\, France
CATEGORIES:Marche Nordique
END:VEVENT
BEGIN:VEVENT
DTSTART;TZID=Europe/Paris:20260309T190000
DTEND;TZID=Europe/Paris:20260309T203000
DTSTAMP:20260422T085451
CREATED:20260210T134122Z
LAST-MODIFIED:20260419T115250Z
UID:7316-1773082800-1773088200@club-vosgien-guebwiller.fr
SUMMARY:Marche Nordique du lundi soir
DESCRIPTION:Cette sortie s’adresse aux personnes ayant déjà pratiqué la Marche Nordique et capables de suivre un rythme « soutenu ». \nMerci de ne pas oublier votre lampe frontale\, ni vos pads et de porter un gilet jaune. \n  \nLieu : Parking du Collège du Hugstein à Buhl (petit parking situé à droite du collège\, près de l’entrée du personnel). \nDébut: 19h00 \nFin: 20h30 \nDurée : 1\,5 heures échauffement et étirements compris (horaire d’hiver) \nAnimateur : Jean-Paul \nUne participation de 3 € est demandée pour les non-adhérents (assurance)
URL:http://club-vosgien-guebwiller.fr/event/marche-nordique-du-lundi-soir-10/
LOCATION:Parking du Collège du Hugstein Buhl\, W5CW+X4M Buhl\, France\, Buhl\, 68530\, France
CATEGORIES:Marche Nordique
END:VEVENT
BEGIN:VEVENT
DTSTART;TZID=Europe/Paris:20260310T093000
DTEND;TZID=Europe/Paris:20260310T113000
DTSTAMP:20260422T085451
CREATED:20260210T140200Z
LAST-MODIFIED:20260419T115358Z
UID:7326-1773135000-1773142200@club-vosgien-guebwiller.fr
SUMMARY:Marche Nordique d'initiation
DESCRIPTION:Séance s’adressant aux débutants.\nLieu du rendez-vous: Parking de la Basilique de Thierenbach.\nDurée : 2 heures échauffement et étirements compris.\nPrêt de bâtons possible pour les 2 premières séances\, contactez Evelyne. \nPour les non-adhérents une participation de 3 euros est demandée. \nEvelyne: 07 88 33 28 20 \nMadeleine: 07 71 19 06 55
URL:http://club-vosgien-guebwiller.fr/event/marche-nordique-dinitiation-10/
LOCATION:Parking Basilique Notre Dame de Thierenbach Jungholtz\, V5JQ+FVC Jungholtz\, France\, Jungholtz\, 68500\, France
CATEGORIES:Marche Nordique
END:VEVENT
BEGIN:VEVENT
DTSTART;TZID=Europe/Paris:20260311T130000
DTEND;TZID=Europe/Paris:20260311T173000
DTSTAMP:20260422T085451
CREATED:20260219T123108Z
LAST-MODIFIED:20260419T115422Z
UID:7483-1773234000-1773250200@club-vosgien-guebwiller.fr
SUMMARY:Petite balade avec visite au départ de Wattwiller
DESCRIPTION:2026 03 11 Communiqué petite balade
URL:http://club-vosgien-guebwiller.fr/event/petite-balade-avec-visite-au-depart-de-wattwiller/
LOCATION:Parking de la Fondation François Schneider Wattwiller\, 27 Rue de la Première Armée\, Wattwiller\, 68700
CATEGORIES:Randonnées
END:VEVENT
BEGIN:VEVENT
DTSTART;VALUE=DATE:20260312
DTEND;VALUE=DATE:20260313
DTSTAMP:20260422T085451
CREATED:20260219T123552Z
LAST-MODIFIED:20260419T115439Z
UID:7488-1773273600-1773359999@club-vosgien-guebwiller.fr
SUMMARY:Les sorties de Maurice - Rougemont le Château.
DESCRIPTION:2026 03 12 Communiqué sortie Rougemont
URL:http://club-vosgien-guebwiller.fr/event/sortie-maurice-rougemont-le-chateau/
LOCATION:Parking des Espaces Verts Guebwiller\, Parking Cimetière Route de Colmar\, Guebwiller\, 68500\, France
CATEGORIES:Randonnées
END:VEVENT
BEGIN:VEVENT
DTSTART;TZID=Europe/Paris:20260312T090000
DTEND;TZID=Europe/Paris:20260312T110000
DTSTAMP:20260422T085451
CREATED:20260210T131527Z
LAST-MODIFIED:20260419T115455Z
UID:7298-1773306000-1773313200@club-vosgien-guebwiller.fr
SUMMARY:Marche Nordique
DESCRIPTION:Lieu : Parking du Cimetière Militaire de Guebwiller \nDurée : 2 heures échauffement et étirements compris \n1 niveau : Jacqueline/Jean-Paul \nUne participation de 3 € est demandée pour les non-adhérents (assurance)
URL:http://club-vosgien-guebwiller.fr/event/marche-nordique-4/
LOCATION:Parking du Cimetière Militaire Guebwiller\, W632+PHW Guebwiller\, France\, Guebwiller\, 68500\, France
CATEGORIES:Marche Nordique
END:VEVENT
BEGIN:VEVENT
DTSTART;TZID=Europe/Paris:20260312T090000
DTEND;TZID=Europe/Paris:20260312T110000
DTSTAMP:20260422T085451
CREATED:20260309T153821Z
LAST-MODIFIED:20260419T115511Z
UID:7801-1773306000-1773313200@club-vosgien-guebwiller.fr
SUMMARY:Marche nordique avec Joël
DESCRIPTION:Rendez vous à 8h45/8h50 avec mise en route à 9h sur le parking du camping d’Osenbach pour une marche de 2h / 2h15 environ (échauffement et étirement compris). \nParcours périphérique via le Baerenthal (prairie en fleurs). \nVous pouvez consulter le calendrier sur le site du Club Vosgien de Guebwiller.   » www.club-vosgien-guebwiller.fr «  \nSPORTIVEMENT JOEL
URL:http://club-vosgien-guebwiller.fr/event/marche-nordique-avec-joel-4/
LOCATION:Camping d’Osenbach\, 31 Rue du Stade\, Osenbach\, 68570\, France
CATEGORIES:Marche Nordique
END:VEVENT
BEGIN:VEVENT
DTSTART;TZID=Europe/Paris:20260312T090000
DTEND;TZID=Europe/Paris:20260312T170000
DTSTAMP:20260422T085451
CREATED:20260216T152109Z
LAST-MODIFIED:20260419T115528Z
UID:7410-1773306000-1773334800@club-vosgien-guebwiller.fr
SUMMARY:Les Randos du jeudi - Col de la Wolfsgrube
DESCRIPTION:Jeudi 12 mars nous irons marcher dans la vallée du Florival\, de Buhl à Lautenbach-Zell. \nAu départ du parking de l’Eglise de Buhl nous passerons au Col du Schrangen – Col de la Wolfsgrube pour rejoindre le Restaurant « A La Truite » à Lautenbach-Zell où nous prendrons le repas de midi en commun. \nLe retour se fera par le Geffenthal. \nEnviron 12 km et 370 D+. \nTemps de marche : 4 heures 30mn \nDépart à 9 heures rue Victor Hugo à Guebwiller pour le covoiturage \n  \nVeuillez me confirmer votre participation à cette randonnée soit par mail\, soit par sms\, soit par téléphone au 06 36 60 85 18 pour la réservation du repas au restaurant au plus tard lundi 09 mars à 18 heures.
URL:http://club-vosgien-guebwiller.fr/event/col-de-wolfsgrube/
LOCATION:Rue Victor Hugo Guebwiller\, W638+9G3 Guebwiller\, 68500\, France
CATEGORIES:Randonnées
END:VEVENT
BEGIN:VEVENT
DTSTART;TZID=Europe/Paris:20260313T140000
DTEND;TZID=Europe/Paris:20260313T160000
DTSTAMP:20260422T085451
CREATED:20260216T141727Z
LAST-MODIFIED:20260419T115554Z
UID:7393-1773410400-1773417600@club-vosgien-guebwiller.fr
SUMMARY:Marche Nordique avec Marie-Jo
DESCRIPTION:Lieu : Col du Bannstein \nDurée : 2 heures échauffement et étirements compris \n1 niveau moyen : Marie-Jo \nUne participation de 3 € est demandée pour les non-adhérents (assurance)
URL:http://club-vosgien-guebwiller.fr/event/marche-nordique-avec-marie-jo-2/
LOCATION:Parking du Bannstein Lautenbach\, X53V+F2X Lautenbach\, 68530\, France
CATEGORIES:Marche Nordique
ORGANIZER;CN="Marie Jos%C3%A9e Fergant":MAILTO:mariejosee.fergant68@gmail.com
END:VEVENT
BEGIN:VEVENT
DTSTART;TZID=Europe/Paris:20260314T090000
DTEND;TZID=Europe/Paris:20260314T120000
DTSTAMP:20260422T085451
CREATED:20260203T165910Z
LAST-MODIFIED:20260418T215346Z
UID:7214-1773478800-1773489600@club-vosgien-guebwiller.fr
SUMMARY:Formation Thématique pour Tous - Lecture de carte.
DESCRIPTION:  \nModule 2: \nFormation réservée aux adhérents avec inscription préalable obligatoire à l’adresse suivante: \nmailto:president.cvgueb@gmail.com \nChaque séance peut accueillir 10 personnes. Si plus de 10\, les inscrits sont placés en liste d’attente jusqu’à proposition d’une nouvelle date.
URL:http://club-vosgien-guebwiller.fr/event/formation-thematique-pour-tous-lecture-de-carte/
LOCATION:Maison du Club Vosgien Guebwiller\, 12 Rue du Canal\, Guebwiller\, 68500\, France
CATEGORIES:Formation Thématique
ORGANIZER;CN="Christian Marguin":MAILTO:president.cvgueb@gmail.com
END:VEVENT
BEGIN:VEVENT
DTSTART;TZID=Europe/Paris:20260314T130000
DTEND;TZID=Europe/Paris:20260314T173000
DTSTAMP:20260422T085451
CREATED:20260219T123317Z
LAST-MODIFIED:20260419T115615Z
UID:7486-1773493200-1773509400@club-vosgien-guebwiller.fr
SUMMARY:Petite balade avec visite au départ de Wattwiller
DESCRIPTION:2026 03 11 Communiqué petite balade
URL:http://club-vosgien-guebwiller.fr/event/petite-balade-avec-visite-au-depart-de-wattwiller-2/
LOCATION:Parking de la Fondation François Schneider Wattwiller\, 27 Rue de la Première Armée\, Wattwiller\, 68700
CATEGORIES:Randonnées
END:VEVENT
BEGIN:VEVENT
DTSTART;TZID=Europe/Paris:20260316T090000
DTEND;TZID=Europe/Paris:20260316T110000
DTSTAMP:20260422T085451
CREATED:20260210T131725Z
LAST-MODIFIED:20260419T115630Z
UID:7300-1773651600-1773658800@club-vosgien-guebwiller.fr
SUMMARY:Marche Nordique
DESCRIPTION:Lieu : Parking de l’Aire de Loisirs du Florival \nDurée : 2 heures échauffement et étirements compris \n3 niveaux : Jacqueline/Jean-Paul\, Françoise\, Marie-Jo \nUne participation de 3 € est demandée pour les non-adhérents (assurance)
URL:http://club-vosgien-guebwiller.fr/event/marche-nordique-5/
CATEGORIES:Marche Nordique
END:VEVENT
BEGIN:VEVENT
DTSTART;TZID=Europe/Paris:20260316T190000
DTEND;TZID=Europe/Paris:20260316T203000
DTSTAMP:20260422T085451
CREATED:20260210T133918Z
LAST-MODIFIED:20260419T115824Z
UID:7314-1773687600-1773693000@club-vosgien-guebwiller.fr
SUMMARY:Marche Nordique du lundi soir
DESCRIPTION:Cette sortie s’adresse aux personnes ayant déjà pratiqué la Marche Nordique et capables de suivre un rythme « soutenu ». \nMerci de ne pas oublier votre lampe frontale\, ni vos pads et de porter un gilet jaune. \n  \nLieu : Parking des Espaces Verts de Guebwiller (Route de Colmar). \nDébut: 19h00 \nFin: 20h30 \nDurée : 1\,5 heures échauffement et étirements compris (horaire d’hiver) \nAnimateur : Jean-Paul \nUne participation de 3 € est demandée pour les non-adhérents (assurance)
URL:http://club-vosgien-guebwiller.fr/event/marche-nordique-du-lundi-soir-9/
LOCATION:Parking des Espaces Verts Guebwiller\, Parking Cimetière Route de Colmar\, Guebwiller\, 68500\, France
CATEGORIES:Marche Nordique
END:VEVENT
BEGIN:VEVENT
DTSTART;TZID=Europe/Paris:20260317T093000
DTEND;TZID=Europe/Paris:20260317T113000
DTSTAMP:20260422T085451
CREATED:20260210T140419Z
LAST-MODIFIED:20260419T115839Z
UID:7328-1773739800-1773747000@club-vosgien-guebwiller.fr
SUMMARY:Marche Nordique d'initiation
DESCRIPTION:Séance s’adressant aux débutants.\nLieu du rendez-vous: Parking de la Basilique de Thierenbach.\nDurée : 2 heures échauffement et étirements compris.\nPrêt de bâtons possible pour les 2 premières séances\, contactez Evelyne. \nPour les non-adhérents une participation de 3 euros est demandée. \nEvelyne: 07 88 33 28 20 \nMadeleine: 07 71 19 06 55
URL:http://club-vosgien-guebwiller.fr/event/marche-nordique-dinitiation-11/
LOCATION:Parking Basilique Notre Dame de Thierenbach Jungholtz\, V5JQ+FVC Jungholtz\, France\, Jungholtz\, 68500\, France
CATEGORIES:Marche Nordique
END:VEVENT
BEGIN:VEVENT
DTSTART;TZID=Europe/Paris:20260317T140000
DTEND;TZID=Europe/Paris:20260317T170000
DTSTAMP:20260422T085451
CREATED:20260220T091127Z
LAST-MODIFIED:20260419T115854Z
UID:7590-1773756000-1773766800@club-vosgien-guebwiller.fr
SUMMARY:Rando Douce - Mittelwihr
DESCRIPTION:89 - Invitation Mittelwihr - 2
URL:http://club-vosgien-guebwiller.fr/event/rando-douce-mittelwihr/
LOCATION:Parking des Espaces Verts Guebwiller\, Parking Cimetière Route de Colmar\, Guebwiller\, 68500\, France
CATEGORIES:Randonnées
END:VEVENT
BEGIN:VEVENT
DTSTART;VALUE=DATE:20260319
DTEND;VALUE=DATE:20260320
DTSTAMP:20260422T085451
CREATED:20260219T124522Z
LAST-MODIFIED:20260419T115911Z
UID:7495-1773878400-1773964799@club-vosgien-guebwiller.fr
SUMMARY:Les sorties de Maurice - Château du Schlossberg
DESCRIPTION:2026 03 19 Communiqué sortie Kruth
URL:http://club-vosgien-guebwiller.fr/event/les-sorties-de-maurice-chateau-du-schlossberg/
LOCATION:Parking des Espaces Verts Guebwiller\, Parking Cimetière Route de Colmar\, Guebwiller\, 68500\, France
CATEGORIES:Randonnées
END:VEVENT
BEGIN:VEVENT
DTSTART;TZID=Europe/Paris:20260319T090000
DTEND;TZID=Europe/Paris:20260319T110000
DTSTAMP:20260422T085451
CREATED:20260210T131843Z
LAST-MODIFIED:20260419T115926Z
UID:7302-1773910800-1773918000@club-vosgien-guebwiller.fr
SUMMARY:Marche Nordique
DESCRIPTION:Lieu : Parking de la Basilique de Thierenbach \nDurée : 2 heures échauffement et étirements compris \n1 niveau : Jacqueline/Jean-Paul \nUne participation de 3 € est demandée pour les non-adhérents (assurance)
URL:http://club-vosgien-guebwiller.fr/event/marche-nordique-6/
LOCATION:Parking Basilique Notre Dame de Thierenbach Jungholtz\, V5JQ+FVC Jungholtz\, France\, Jungholtz\, 68500\, France
CATEGORIES:Marche Nordique
END:VEVENT
BEGIN:VEVENT
DTSTART;TZID=Europe/Paris:20260319T090000
DTEND;TZID=Europe/Paris:20260319T110000
DTSTAMP:20260422T085451
CREATED:20260317T082434Z
LAST-MODIFIED:20260419T115940Z
UID:7887-1773910800-1773918000@club-vosgien-guebwiller.fr
SUMMARY:Marche Nordique avec Joël
DESCRIPTION:Rendez vous à 8h45/8h50 avec mise en route à 9h sur le parking sauvage devant la fonderie Schlumberger. \nGuebwiller nord\, aux feux tricolore à l’angle rue du 17 Novembre (U Express) et rue du Général de Gaulle D430. \nParcours périphérique de 2h/2h15 environ (échauffement et étirement compris) en partant par le chemin du Heissenstein avec passage par « La Croix de la Mission » et retour. \nNous traverserons la D430\, alors prudence au passage piétons. \nVous pouvez consulter le site du Club Vosgien de Guebwiller.   » club-vosgien-guebwiller.fr «  \n  Sportivement Joël
URL:http://club-vosgien-guebwiller.fr/event/marche-nordique-avec-joel-5/
LOCATION:Parking sauvage Fonderie Schlumberger\, W683+QRH Guebwiller\, Guebwiller\, 68500\, France
CATEGORIES:Marche Nordique
END:VEVENT
BEGIN:VEVENT
DTSTART;TZID=Europe/Paris:20260319T130000
DTEND;TZID=Europe/Paris:20260319T170000
DTSTAMP:20260422T085451
CREATED:20251220T102841Z
LAST-MODIFIED:20260318T202553Z
UID:6658-1773925200-1773939600@club-vosgien-guebwiller.fr
SUMMARY:Les Randos du jeudi - Randonnée les amandiers en fleurs
DESCRIPTION:Animateur : Pierre Ditner \nBeblenheim – Mandelberg – Sonnenglantz – Zellenberg – Hohrain – Beblenheim \nDistance : 8 kms dénivelé 150 D+ \nTemps de marche : 4 heures \nRendez-vous : 13 h rue Victor Hugo à Guebwiller \nInscription  chez Pierre 06 16 37 47 35
URL:http://club-vosgien-guebwiller.fr/event/randonnee-les-amandiers-en-fleurs/
LOCATION:Rue Victor Hugo Guebwiller\, W638+9G3 Guebwiller\, 68500\, France
CATEGORIES:Randonnées
END:VEVENT
BEGIN:VEVENT
DTSTART;TZID=Europe/Paris:20260320T140000
DTEND;TZID=Europe/Paris:20260320T160000
DTSTAMP:20260422T085451
CREATED:20260216T142744Z
LAST-MODIFIED:20260419T120002Z
UID:7398-1774015200-1774022400@club-vosgien-guebwiller.fr
SUMMARY:Marche Nordique avec Marie-Jo
DESCRIPTION:Lieu : Parking du Cimetière Roumain de Soultzmatt \nDurée : 2 heures échauffement et étirements compris \n1 niveau moyen : Marie-Jo \nUne participation de 3 € est demandée pour les non-adhérents (assurance)
URL:http://club-vosgien-guebwiller.fr/event/marche-nordique-avec-marie-jo-3/
LOCATION:Parking du Cimetière Roumain Soultzmatt\, X647+MX4 Soultzmatt\, France\, Soultzmatt\, 68570\, France
CATEGORIES:Marche Nordique
ORGANIZER;CN="Marie Jos%C3%A9e Fergant":MAILTO:mariejosee.fergant68@gmail.com
END:VEVENT
BEGIN:VEVENT
DTSTART;TZID=Europe/Paris:20260323T090000
DTEND;TZID=Europe/Paris:20260323T110000
DTSTAMP:20260422T085451
CREATED:20260210T132050Z
LAST-MODIFIED:20260419T120731Z
UID:7304-1774256400-1774263600@club-vosgien-guebwiller.fr
SUMMARY:Marche Nordique
DESCRIPTION:Lieu : Parking du Marronnier à Orschwihr \nDurée : 2 heures échauffement et étirements compris \n3 niveaux : Jacqueline/Jean-Paul\, Françoise\, Marie-Jo \nUne participation de 3 € est demandée pour les non-adhérents (assurance)
URL:http://club-vosgien-guebwiller.fr/event/marche-nordique-7/
LOCATION:Parking du Marronnier Orschwihr\, Parking du Marronnier Rue du Bollenberg\, Orschwihr\, 68500\, France
CATEGORIES:Marche Nordique
END:VEVENT
END:VCALENDAR