BEGIN:VCALENDAR
VERSION:2.0
PRODID:-//Club Vosgien de Guebwiller - ECPv6.15.20//NONSGML v1.0//EN
CALSCALE:GREGORIAN
METHOD:PUBLISH
X-WR-CALNAME:Club Vosgien de Guebwiller
X-ORIGINAL-URL:http://club-vosgien-guebwiller.fr
X-WR-CALDESC:Évènements pour Club Vosgien de Guebwiller
REFRESH-INTERVAL;VALUE=DURATION:PT1H
X-Robots-Tag:noindex
X-PUBLISHED-TTL:PT1H
BEGIN:VTIMEZONE
TZID:Europe/Paris
BEGIN:DAYLIGHT
TZOFFSETFROM:+0100
TZOFFSETTO:+0200
TZNAME:CEST
DTSTART:20250330T010000
END:DAYLIGHT
BEGIN:STANDARD
TZOFFSETFROM:+0200
TZOFFSETTO:+0100
TZNAME:CET
DTSTART:20251026T010000
END:STANDARD
BEGIN:DAYLIGHT
TZOFFSETFROM:+0100
TZOFFSETTO:+0200
TZNAME:CEST
DTSTART:20260329T010000
END:DAYLIGHT
BEGIN:STANDARD
TZOFFSETFROM:+0200
TZOFFSETTO:+0100
TZNAME:CET
DTSTART:20261025T010000
END:STANDARD
BEGIN:DAYLIGHT
TZOFFSETFROM:+0100
TZOFFSETTO:+0200
TZNAME:CEST
DTSTART:20270328T010000
END:DAYLIGHT
BEGIN:STANDARD
TZOFFSETFROM:+0200
TZOFFSETTO:+0100
TZNAME:CET
DTSTART:20271031T010000
END:STANDARD
END:VTIMEZONE
BEGIN:VEVENT
DTSTART;TZID=Europe/Paris:20260504T090000
DTEND;TZID=Europe/Paris:20260504T110000
DTSTAMP:20260422T071735
CREATED:20260415T184810Z
LAST-MODIFIED:20260418T215900Z
UID:8433-1777885200-1777892400@club-vosgien-guebwiller.fr
SUMMARY:Marche Nordique
DESCRIPTION:Lieu : Parking de Thierenbach. \nDurée : 2 heures échauffement et étirements compris \n3 niveaux : Jacqueline/Jean-Paul\, Françoise\, Marie-Jo. \nUne participation de 3 € est demandée pour les non-adhérents (assurance)
URL:http://club-vosgien-guebwiller.fr/event/marche-nordique-18/
LOCATION:Parking Basilique Notre Dame de Thierenbach Jungholtz\, V5JQ+FVC Jungholtz\, France\, Jungholtz\, 68500\, France
CATEGORIES:Marche Nordique
END:VEVENT
BEGIN:VEVENT
DTSTART;TZID=Europe/Paris:20260504T190000
DTEND;TZID=Europe/Paris:20260504T210000
DTSTAMP:20260422T071735
CREATED:20260418T205048Z
LAST-MODIFIED:20260418T215917Z
UID:8482-1777921200-1777928400@club-vosgien-guebwiller.fr
SUMMARY:Marche Nordique du lundi soir
DESCRIPTION:Cette sortie s’adresse aux personnes ayant déjà pratiqué la Marche Nordique et capables de suivre un rythme « soutenu ». \nMerci de ne pas oublier votre lampe frontale\, vos pads ni votre gilet jaune. \n  \nLieu : Parking du Bannstein. \nDébut: 19h00 \nFin: 21h00 \nDurée : 2 heures échauffement et étirements compris (horaire d’été) \nAnimateur : Jean-Paul \nUne participation de 3 € est demandée pour les non-adhérents (assurance).
URL:http://club-vosgien-guebwiller.fr/event/marche-nordique-du-lundi-soir-17/
LOCATION:Parking du Bannstein Lautenbach\, X53V+F2X Lautenbach\, 68530\, France
CATEGORIES:Marche Nordique
END:VEVENT
BEGIN:VEVENT
DTSTART;TZID=Europe/Paris:20260505T090000
DTEND;TZID=Europe/Paris:20260505T110000
DTSTAMP:20260422T071735
CREATED:20260418T200522Z
LAST-MODIFIED:20260418T215936Z
UID:8465-1777971600-1777978800@club-vosgien-guebwiller.fr
SUMMARY:Marche Nordique d'initiation
DESCRIPTION:Séance s’adressant aux débutants.\nLieu du rendez-vous: Parking du Cimetière de Guebwiller – Côté Jardins Municipaux.\nDurée : 2 heures échauffement et étirements compris.\nPrêt de bâtons possible pour les 2 premières séances\, contactez Evelyne. \nPour les non-adhérents une participation de 3 euros est demandée. \nEvelyne: 07 88 33 28 20 \nMadeleine: 07 71 19 06 55
URL:http://club-vosgien-guebwiller.fr/event/marche-nordique-dinitiation-18/
LOCATION:Parking Cimetière de Guebwiller (route de Colmar face aux jardins municipaux)\, W64H+7QF Guebwiller\, Guebwiller\, 68500\, France
CATEGORIES:Marche Nordique
END:VEVENT
BEGIN:VEVENT
DTSTART;TZID=Europe/Paris:20260507T090000
DTEND;TZID=Europe/Paris:20260507T110000
DTSTAMP:20260422T071735
CREATED:20260415T184951Z
LAST-MODIFIED:20260418T215955Z
UID:8435-1778144400-1778151600@club-vosgien-guebwiller.fr
SUMMARY:Marche Nordique
DESCRIPTION:Lieu : Parking du St Barnabé. \nDurée : 2 heures échauffement et étirements compris \n1 seul niveau dynamique: Jean-Paul \nUne participation de 3 € est demandée pour les non-adhérents (assurance).
URL:http://club-vosgien-guebwiller.fr/event/marche-nordique-19/
LOCATION:Parking Pont du St Barnabé Buhl\, W5CC+9GC Buhl\, Buhl\, 68530\, France
CATEGORIES:Marche Nordique
END:VEVENT
BEGIN:VEVENT
DTSTART;TZID=Europe/Paris:20260507T130000
DTEND;TZID=Europe/Paris:20260507T170000
DTSTAMP:20260422T071735
CREATED:20260318T192620Z
LAST-MODIFIED:20260418T220013Z
UID:7996-1778158800-1778173200@club-vosgien-guebwiller.fr
SUMMARY:Les Randos du jeudi - Le Petit Honack
DESCRIPTION:AM 7 mai 2026 : Ste GISÈLE: Le Petit Honack \nAnimateur: Pierre PRUD’HOMME \nTROIS-ÉPIS (parking de la roseraie) – Meierhof – Obschel – Giragoutte – Château du Petit Hohnack – retour par La Trinque et le sentier GR532 – TROIS-ÉPIS \n10km\, dénivelé 290D+ \nPetite balade d’après-midi. \nInscription chez Pierre 06 88 98 07 10 \nTemps de marche: 4 heures \nRDV : 13 heures \nNiveau moyen
URL:http://club-vosgien-guebwiller.fr/event/les-randos-du-jeudi-le-petit-honack/
LOCATION:Rue Victor Hugo Guebwiller\, W638+9G3 Guebwiller\, 68500\, France
CATEGORIES:Randonnées
END:VEVENT
BEGIN:VEVENT
DTSTART;TZID=Europe/Paris:20260511T090000
DTEND;TZID=Europe/Paris:20260511T110000
DTSTAMP:20260422T071735
CREATED:20260415T185301Z
LAST-MODIFIED:20260418T220029Z
UID:8437-1778490000-1778497200@club-vosgien-guebwiller.fr
SUMMARY:Marche Nordique
DESCRIPTION:Lieu : Parking de l’Aire de Loisirs du Florival. \nDurée : 2 heures échauffement et étirements compris \n3 niveaux : Jacqueline/Jean-Paul\, Françoise\, Marie-Jo \nUne participation de 3 € est demandée pour les non-adhérents (assurance)
URL:http://club-vosgien-guebwiller.fr/event/marche-nordique-20/
LOCATION:Aire de Loisirs du Florival\, W5Q7+M8G Lautenbach\, Lautenbach\, 68610
CATEGORIES:Marche Nordique
END:VEVENT
BEGIN:VEVENT
DTSTART;TZID=Europe/Paris:20260511T190000
DTEND;TZID=Europe/Paris:20260511T210000
DTSTAMP:20260422T071735
CREATED:20260418T205405Z
LAST-MODIFIED:20260418T220045Z
UID:8484-1778526000-1778533200@club-vosgien-guebwiller.fr
SUMMARY:Marche Nordique du lundi soir
DESCRIPTION:Cette sortie s’adresse aux personnes ayant déjà pratiqué la Marche Nordique et capables de suivre un rythme « soutenu ». \nMerci de ne pas oublier votre lampe frontale\, vos pads ni votre gilet jaune. \n  \nLieu : Petit parking du Cimetière de Guebwiller (route de Colmar / route de Bergholtz). \nDébut: 19h00 \nFin: 21h00 \nDurée : 2 heures échauffement et étirements compris (horaire d’été) \nAnimateur : Jean-Paul \nUne participation de 3 € est demandée pour les non-adhérents (assurance).
URL:http://club-vosgien-guebwiller.fr/event/marche-nordique-du-lundi-soir-18/
LOCATION:Petit parking Cimetière de Guebwiller (Route de Colmar / Route de Bergholtz)\, W64H+7QM Guebwiller\, Guebwiller\, 68500\, France
CATEGORIES:Marche Nordique
END:VEVENT
BEGIN:VEVENT
DTSTART;TZID=Europe/Paris:20260512T090000
DTEND;TZID=Europe/Paris:20260512T110000
DTSTAMP:20260422T071735
CREATED:20260418T200734Z
LAST-MODIFIED:20260418T220102Z
UID:8467-1778576400-1778583600@club-vosgien-guebwiller.fr
SUMMARY:Marche Nordique d’initiation
DESCRIPTION:Séance s’adressant aux débutants.\nLieu du rendez-vous: Parking du Gros Chêne à Wuenheim.\nDurée : 2 heures échauffement et étirements compris.\nPrêt de bâtons possible pour les 2 premières séances\, contactez Evelyne. \nPour les non-adhérents une participation de 3 euros est demandée. \nEvelyne: 07 88 33 28 20 \nMadeleine: 07 71 19 06 55
URL:http://club-vosgien-guebwiller.fr/event/marche-nordique-dinitiation-19/
LOCATION:Parking du Gros Chêne Wuenheim\, Parking du Gros Chêne Route du Col Amic\, Wuenheim\, 68500\, France
CATEGORIES:Marche Nordique
END:VEVENT
BEGIN:VEVENT
DTSTART;VALUE=DATE:20260514
DTEND;VALUE=DATE:20260515
DTSTAMP:20260422T071735
CREATED:20260415T185424Z
LAST-MODIFIED:20260418T214841Z
UID:8439-1778716800-1778803199@club-vosgien-guebwiller.fr
SUMMARY:Pas d'activité ce jour - Jeudi de l'Ascension !
DESCRIPTION:
URL:http://club-vosgien-guebwiller.fr/event/pas-dactivite-ce-jour/
CATEGORIES:Aucune activité
END:VEVENT
BEGIN:VEVENT
DTSTART;TZID=Europe/Paris:20260516T090000
DTEND;TZID=Europe/Paris:20260516T120000
DTSTAMP:20260422T071735
CREATED:20260203T172155Z
LAST-MODIFIED:20260418T215546Z
UID:7234-1778922000-1778932800@club-vosgien-guebwiller.fr
SUMMARY:Formation Thématique pour Tous – Le Balisage du Club Vosgien - SIG.
DESCRIPTION:  \nModule 4: \nFormation réservée aux adhérents avec inscription préalable obligatoire à l’adresse suivante: \nmailto:president.cvgueb@gmail.com \nChaque séance peut accueillir 10 personnes. Si plus de 10\, les inscrits sont placés en liste d’attente jusqu’à proposition d’une nouvelle date.
URL:http://club-vosgien-guebwiller.fr/event/formation-thematique-pour-tous-le-balisage-du-club-vosgien-sig/
LOCATION:Maison du Club Vosgien Guebwiller\, 12 Rue du Canal\, Guebwiller\, 68500\, France
CATEGORIES:Formation Thématique
ORGANIZER;CN="Christian Marguin":MAILTO:president.cvgueb@gmail.com
END:VEVENT
BEGIN:VEVENT
DTSTART;VALUE=DATE:20260518
DTEND;VALUE=DATE:20260519
DTSTAMP:20260422T071735
CREATED:20260415T191113Z
LAST-MODIFIED:20260418T220148Z
UID:8441-1779062400-1779148799@club-vosgien-guebwiller.fr
SUMMARY:Randonnée de la Marche Nordique dans le Vallon de Rimbach
DESCRIPTION:2026 05 18 Communiqué Marche Nordique Vallon de Rimbach\n 
URL:http://club-vosgien-guebwiller.fr/event/randonnee-de-la-marche-nordique-au-sudel/
LOCATION:Parking des Espaces Verts Guebwiller\, Parking Cimetière Route de Colmar\, Guebwiller\, 68500\, France
CATEGORIES:Randonnées
END:VEVENT
BEGIN:VEVENT
DTSTART;TZID=Europe/Paris:20260518T190000
DTEND;TZID=Europe/Paris:20260518T210000
DTSTAMP:20260422T071735
CREATED:20260418T203127Z
LAST-MODIFIED:20260418T220204Z
UID:8475-1779130800-1779138000@club-vosgien-guebwiller.fr
SUMMARY:Marche Nordique du lundi soir - ANNULEE
DESCRIPTION:En raison de la randonnée de ce jour organisée par la section Marche Nordique du CVG\, la sortie de ce soir est annulée. \nPas de Marche Nordique non plus le lundi soir 25 Mai (Lundi de Pentecôte). \nAbsence de votre coach la semaine du 1er Juin. \nReprise et prochain rendez-vous pour la Marche Nordique du lundi soir le 8 Juin à 19h ! \nMerci de consulter le calendrier du site.
URL:http://club-vosgien-guebwiller.fr/event/marche-nordique-du-lundi-soir-annulee/
CATEGORIES:Marche Nordique
END:VEVENT
BEGIN:VEVENT
DTSTART;TZID=Europe/Paris:20260519T090000
DTEND;TZID=Europe/Paris:20260519T110000
DTSTAMP:20260422T071735
CREATED:20260418T200849Z
LAST-MODIFIED:20260418T220218Z
UID:8469-1779181200-1779188400@club-vosgien-guebwiller.fr
SUMMARY:Marche Nordique d’initiation
DESCRIPTION:Séance s’adressant aux débutants.\nLieu du rendez-vous: Parking du Gros Chêne à Wuenheim.\nDurée : 2 heures échauffement et étirements compris.\nPrêt de bâtons possible pour les 2 premières séances\, contactez Evelyne. \nPour les non-adhérents une participation de 3 euros est demandée. \nEvelyne: 07 88 33 28 20 \nMadeleine: 07 71 19 06 55
URL:http://club-vosgien-guebwiller.fr/event/marche-nordique-dinitiation-20/
LOCATION:Parking du Gros Chêne Wuenheim\, Parking du Gros Chêne Route du Col Amic\, Wuenheim\, 68500\, France
CATEGORIES:Marche Nordique
END:VEVENT
BEGIN:VEVENT
DTSTART;TZID=Europe/Paris:20260521T090000
DTEND;TZID=Europe/Paris:20260521T110000
DTSTAMP:20260422T071735
CREATED:20260415T191240Z
LAST-MODIFIED:20260418T220235Z
UID:8444-1779354000-1779361200@club-vosgien-guebwiller.fr
SUMMARY:Marche Nordique
DESCRIPTION:Lieu : Parking du Cimetière Militaire de Guebwiller. \nDurée : 2 heures échauffement et étirements compris \n1 seul niveau dynamique: Jacqueline/Jean-Paul \nUne participation de 3 € est demandée pour les non-adhérents (assurance).
URL:http://club-vosgien-guebwiller.fr/event/marche-nordique-21/
LOCATION:Parking du Cimetière Militaire Guebwiller\, W632+PHW Guebwiller\, France\, Guebwiller\, 68500\, France
CATEGORIES:Marche Nordique
END:VEVENT
BEGIN:VEVENT
DTSTART;TZID=Europe/Paris:20260521T090000
DTEND;TZID=Europe/Paris:20260521T140000
DTSTAMP:20260422T071735
CREATED:20260318T192940Z
LAST-MODIFIED:20260418T220259Z
UID:7999-1779354000-1779372000@club-vosgien-guebwiller.fr
SUMMARY:Les Randos du jeudi - Roderen
DESCRIPTION:21 mai 2026: St CONSTANTIN: Roderen \nAnimateur: Pierre DITNER \nRODEREN – Mulhberg – Col du Teufelsgrund – Weierlé – Thann (restaurant « Le Floridor ») – retour Leimbach – RODEREN \n13km\, dénivelé 400D+ \nRéservation obligatoire au moins 1 semaine avant chez Pierre 06 16 37 47 35 pour le repas de midi au restaurant « Le Floridor à Thann. \nTemps de marche: 4h30 \nRDV : 9 heures \nNiveau moyen
URL:http://club-vosgien-guebwiller.fr/event/les-randos-du-jeudi-roderen/
LOCATION:Rue Victor Hugo Guebwiller\, W638+9G3 Guebwiller\, 68500\, France
CATEGORIES:Randonnées
END:VEVENT
BEGIN:VEVENT
DTSTART;TZID=Europe/Paris:20260522T090000
DTEND;TZID=Europe/Paris:20260522T110000
DTSTAMP:20260422T071735
CREATED:20260325T091247Z
LAST-MODIFIED:20260418T220319Z
UID:8107-1779440400-1779447600@club-vosgien-guebwiller.fr
SUMMARY:Marche Nordique avec Marie-Jo
DESCRIPTION:Lieu : Parking du Cimetière Militaire de Guebwiller \nDurée : 2 heures échauffement et étirements compris \n1 niveau moyen : Marie-Jo \nUne participation de 3 € est demandée pour les non-adhérents (assurance)
URL:http://club-vosgien-guebwiller.fr/event/marche-nordique-avec-marie-jo-6/
LOCATION:Parking du Cimetière Militaire Guebwiller\, W632+PHW Guebwiller\, France\, Guebwiller\, 68500\, France
CATEGORIES:Marche Nordique
ORGANIZER;CN="Marie Jos%C3%A9e Fergant":MAILTO:mariejosee.fergant68@gmail.com
END:VEVENT
BEGIN:VEVENT
DTSTART;VALUE=DATE:20260525
DTEND;VALUE=DATE:20260526
DTSTAMP:20260422T071735
CREATED:20260415T191957Z
LAST-MODIFIED:20260418T214819Z
UID:8449-1779667200-1779753599@club-vosgien-guebwiller.fr
SUMMARY:Pas d'activité ce jour - Lundi de Pentecôte !
DESCRIPTION:
URL:http://club-vosgien-guebwiller.fr/event/pas-dactivite-ce-jour-2/
CATEGORIES:Aucune activité
END:VEVENT
BEGIN:VEVENT
DTSTART;TZID=Europe/Paris:20260526T090000
DTEND;TZID=Europe/Paris:20260526T110000
DTSTAMP:20260422T071735
CREATED:20260418T201058Z
LAST-MODIFIED:20260418T220341Z
UID:8471-1779786000-1779793200@club-vosgien-guebwiller.fr
SUMMARY:Marche Nordique d'initiation
DESCRIPTION:Séance s’adressant aux débutants.\nLieu du rendez-vous: Parking du Cimetière Roumain à la Gauchmatt.\nDurée : 2 heures échauffement et étirements compris.\nPrêt de bâtons possible pour les 2 premières séances\, contactez Evelyne. \nPour les non-adhérents une participation de 3 euros est demandée. \nEvelyne: 07 88 33 28 20 \nMadeleine: 07 71 19 06 55
URL:http://club-vosgien-guebwiller.fr/event/marche-nordique-dinitiation-21/
LOCATION:Parking du Cimetière Roumain Soultzmatt\, X647+MX4 Soultzmatt\, France\, Soultzmatt\, 68570\, France
CATEGORIES:Marche Nordique
END:VEVENT
BEGIN:VEVENT
DTSTART;TZID=Europe/Paris:20260528T090000
DTEND;TZID=Europe/Paris:20260528T110000
DTSTAMP:20260422T071735
CREATED:20260415T191540Z
LAST-MODIFIED:20260418T220358Z
UID:8446-1779958800-1779966000@club-vosgien-guebwiller.fr
SUMMARY:Marche Nordique
DESCRIPTION:Lieu : Parking de l’Ancienne Gare de Guebwiller \nDurée : 2 heures échauffement et étirements compris \n1 seul niveau dynamique: Jacqueline/Jean-Paul \nUne participation de 3 € est demandée pour les non-adhérents (assurance)
URL:http://club-vosgien-guebwiller.fr/event/marche-nordique-22/
LOCATION:Parking de l’Ancienne Gare Guebwiller\, 6 Avenue du Maréchal Foch\, Guebwiller\, 68500\, France
CATEGORIES:Marche Nordique
END:VEVENT
BEGIN:VEVENT
DTSTART;TZID=Europe/Paris:20260528T090000
DTEND;TZID=Europe/Paris:20260528T140000
DTSTAMP:20260422T071735
CREATED:20260318T193214Z
LAST-MODIFIED:20260418T220413Z
UID:8001-1779958800-1779976800@club-vosgien-guebwiller.fr
SUMMARY:Les Randos du jeudi - Cascade du Bruscher
DESCRIPTION:28 mai 2026 St GERMAIN: Cascade du Bruscher \nAnimatrice: Colette IMBACH. \nRANSPACH- Étang Miss – Chemin du Braun – Chalet du Braun – Cascade du Bruscher – Neuland – Étang Miss – RANSPACH. \n7km\, dénivelé 300D+ \nRéservation obligatoire au moins 1 semaine avant chez Colette 06 36 60 85 18 \nRepas de midi tiré du sac : grillades et barbecue au Pré aux Cerfs (pavillon de chasse). \nTemps de marche : 2h30 \nRDV : 9 heures \nNiveau moyen
URL:http://club-vosgien-guebwiller.fr/event/les-randos-du-jeudi-cascade-du-bruscher/
LOCATION:Rue Victor Hugo Guebwiller\, W638+9G3 Guebwiller\, 68500\, France
CATEGORIES:Randonnées
END:VEVENT
END:VCALENDAR