BEGIN:VCALENDAR
VERSION:2.0
PRODID:-//Club Vosgien de Guebwiller - ECPv6.15.20//NONSGML v1.0//EN
CALSCALE:GREGORIAN
METHOD:PUBLISH
X-WR-CALNAME:Club Vosgien de Guebwiller
X-ORIGINAL-URL:http://club-vosgien-guebwiller.fr
X-WR-CALDESC:Évènements pour Club Vosgien de Guebwiller
REFRESH-INTERVAL;VALUE=DURATION:PT1H
X-Robots-Tag:noindex
X-PUBLISHED-TTL:PT1H
BEGIN:VTIMEZONE
TZID:Europe/Paris
BEGIN:DAYLIGHT
TZOFFSETFROM:+0100
TZOFFSETTO:+0200
TZNAME:CEST
DTSTART:20250330T010000
END:DAYLIGHT
BEGIN:STANDARD
TZOFFSETFROM:+0200
TZOFFSETTO:+0100
TZNAME:CET
DTSTART:20251026T010000
END:STANDARD
BEGIN:DAYLIGHT
TZOFFSETFROM:+0100
TZOFFSETTO:+0200
TZNAME:CEST
DTSTART:20260329T010000
END:DAYLIGHT
BEGIN:STANDARD
TZOFFSETFROM:+0200
TZOFFSETTO:+0100
TZNAME:CET
DTSTART:20261025T010000
END:STANDARD
BEGIN:DAYLIGHT
TZOFFSETFROM:+0100
TZOFFSETTO:+0200
TZNAME:CEST
DTSTART:20270328T010000
END:DAYLIGHT
BEGIN:STANDARD
TZOFFSETFROM:+0200
TZOFFSETTO:+0100
TZNAME:CET
DTSTART:20271031T010000
END:STANDARD
END:VTIMEZONE
BEGIN:VEVENT
DTSTART;TZID=Europe/Paris:20260426T083000
DTEND;TZID=Europe/Paris:20260426T180000
DTSTAMP:20260424T102815
CREATED:20260403T094147Z
LAST-MODIFIED:20260418T213703Z
UID:8238-1777192200-1777226400@club-vosgien-guebwiller.fr
SUMMARY:Autour du couvent St Marc
DESCRIPTION:2026 04 26 Communiqué rando Saint Marc
URL:http://club-vosgien-guebwiller.fr/event/autour-du-couvent-st-marc/
LOCATION:Parking des Espaces Verts Guebwiller\, Parking Cimetière Route de Colmar\, Guebwiller\, 68500\, France
CATEGORIES:Randonnées
END:VEVENT
BEGIN:VEVENT
DTSTART;TZID=Europe/Paris:20260427T090000
DTEND;TZID=Europe/Paris:20260427T110000
DTSTAMP:20260424T102815
CREATED:20260317T102604Z
LAST-MODIFIED:20260418T212944Z
UID:7898-1777280400-1777287600@club-vosgien-guebwiller.fr
SUMMARY:Marche Nordique
DESCRIPTION:Lieu : Parking du Marronnier à Orschwihr. \nDurée : 2 heures échauffement et étirements compris \n3 niveaux : Jacqueline/Jean-Paul\, Françoise\, Marie-Jo. \nUne participation de 3 € est demandée pour les non-adhérents (assurance)
URL:http://club-vosgien-guebwiller.fr/event/marche-nordique-12/
LOCATION:Parking du Marronnier Orschwihr\, Parking du Marronnier Rue du Bollenberg\, Orschwihr\, 68500\, France
CATEGORIES:Marche Nordique
END:VEVENT
BEGIN:VEVENT
DTSTART;TZID=Europe/Paris:20260427T190000
DTEND;TZID=Europe/Paris:20260427T210000
DTSTAMP:20260424T102815
CREATED:20260317T131429Z
LAST-MODIFIED:20260419T123239Z
UID:7916-1777316400-1777323600@club-vosgien-guebwiller.fr
SUMMARY:Marche Nordique du lundi soir
DESCRIPTION:Cette sortie s’adresse aux personnes ayant déjà pratiqué la Marche Nordique et capables de suivre un rythme « soutenu ». \nMerci de ne pas oublier votre lampe frontale\, vos pads ni votre gilet jaune. \n  \nLieu : Parking de la Sandgrube. \nDébut: 19h00 \nFin: 21h00 \nDurée : 2 heures échauffement et étirements compris (horaire d’été) \nAnimateur : Jean-Paul \nUne participation de 3 € est demandée pour les non-adhérents (assurance).
URL:http://club-vosgien-guebwiller.fr/event/marche-nordique-du-lundi-soir-15/
LOCATION:Parking Sandgrube Guebwiller\, W54W+2VJ Guebwiller\, Guebwiller\, 68500\, France
CATEGORIES:Marche Nordique
END:VEVENT
BEGIN:VEVENT
DTSTART;TZID=Europe/Paris:20260428T093000
DTEND;TZID=Europe/Paris:20260428T113000
DTSTAMP:20260424T102815
CREATED:20260325T181001Z
LAST-MODIFIED:20260418T213017Z
UID:8130-1777368600-1777375800@club-vosgien-guebwiller.fr
SUMMARY:Marche Nordique d'initiation
DESCRIPTION:Séance s’adressant aux débutants.\nLieu du rendez-vous: Parking du Cimetière Roumain Gauchmatt.\nDurée : 2 heures échauffement et étirements compris.\nPrêt de bâtons possible pour les 2 premières séances\, contactez Evelyne. \nPour les non-adhérents une participation de 3 euros est demandée. \nEvelyne: 07 88 33 28 20 \nMadeleine: 07 71 19 06 55
URL:http://club-vosgien-guebwiller.fr/event/marche-nordique-dinitiation-17/
LOCATION:Parking du Cimetière Roumain Soultzmatt\, X647+MX4 Soultzmatt\, France\, Soultzmatt\, 68570\, France
CATEGORIES:Marche Nordique
END:VEVENT
BEGIN:VEVENT
DTSTART;TZID=Europe/Paris:20260429T140000
DTEND;TZID=Europe/Paris:20260429T173000
DTSTAMP:20260424T102815
CREATED:20260326T114742Z
LAST-MODIFIED:20260418T213727Z
UID:8144-1777471200-1777483800@club-vosgien-guebwiller.fr
SUMMARY:Petite balade vers le château du Hugstein
DESCRIPTION:2026 04 29 Communiqué petite balade
URL:http://club-vosgien-guebwiller.fr/event/petite-balade-vers-le-chateau-du-hugstein/
LOCATION:Parking de la Breilmatt (Aire de jeux des Alliés) Guebwiller\, W663+MJX Guebwiller\, Guebwiller\, 68500\, France
CATEGORIES:Randonnées
END:VEVENT
BEGIN:VEVENT
DTSTART;VALUE=DATE:20260430
DTEND;VALUE=DATE:20260501
DTSTAMP:20260424T102815
CREATED:20260326T115033Z
LAST-MODIFIED:20260418T213745Z
UID:8146-1777507200-1777593599@club-vosgien-guebwiller.fr
SUMMARY:Les sorties de Maurice - Les châteaux de l’Ortenbourg et du Bernstein
DESCRIPTION:2026 04 30 Communiqué sortie Dieffenthal
URL:http://club-vosgien-guebwiller.fr/event/les-sorties-de-maurice-les-chateaux-de-lortenbourg-et-du-bernstein/
LOCATION:Parking des Espaces Verts Guebwiller\, Parking Cimetière Route de Colmar\, Guebwiller\, 68500\, France
CATEGORIES:Randonnées
END:VEVENT
BEGIN:VEVENT
DTSTART;TZID=Europe/Paris:20260430T090000
DTEND;TZID=Europe/Paris:20260430T110000
DTSTAMP:20260424T102815
CREATED:20260317T124057Z
LAST-MODIFIED:20260418T213037Z
UID:7906-1777539600-1777546800@club-vosgien-guebwiller.fr
SUMMARY:Marche Nordique
DESCRIPTION:Lieu : Parking du Vivarium du Moulin. \nDurée : 2 heures échauffement et étirements compris \n1 seul niveau dynamique: Jacqueline/Jean-Paul \nUne participation de 3 € est demandée pour les non-adhérents (assurance).
URL:http://club-vosgien-guebwiller.fr/event/marche-nordique-16/
LOCATION:Parking du Vivarium du Moulin Lautenbachzell\, 6 Rue du Moulin\, Lautenbachzell\, 68610\, France
CATEGORIES:Marche Nordique
END:VEVENT
BEGIN:VEVENT
DTSTART;TZID=Europe/Paris:20260430T140000
DTEND;TZID=Europe/Paris:20260430T170000
DTSTAMP:20260424T102815
CREATED:20260414T090540Z
LAST-MODIFIED:20260418T213803Z
UID:8422-1777557600-1777568400@club-vosgien-guebwiller.fr
SUMMARY:Accompagnement les Restos du Coeur.
DESCRIPTION:Le CVG accompagnera les restos du Coeur pour une marche dans l’après-midi au Bollenberg. \n  \n 
URL:http://club-vosgien-guebwiller.fr/event/accompagnement-les-restos-du-coeur/
LOCATION:Parking du Marronnier Orschwihr\, Parking du Marronnier Rue du Bollenberg\, Orschwihr\, 68500\, France
CATEGORIES:Randonnées
ORGANIZER;CN="Club Vosgien de Guebwiller":MAILTO:contact.clubvosgien.guebwiller@gmail.com
END:VEVENT
END:VCALENDAR